BEGIN:VCALENDAR
VERSION:2.0
PRODID:-//Dance Orangeville - ECPv6.15.20//NONSGML v1.0//EN
CALSCALE:GREGORIAN
METHOD:PUBLISH
X-WR-CALNAME:Dance Orangeville
X-ORIGINAL-URL:https://danceorangeville.com
X-WR-CALDESC:Events for Dance Orangeville
REFRESH-INTERVAL;VALUE=DURATION:PT1H
X-Robots-Tag:noindex
X-PUBLISHED-TTL:PT1H
BEGIN:VTIMEZONE
TZID:America/New_York
BEGIN:DAYLIGHT
TZOFFSETFROM:-0500
TZOFFSETTO:-0400
TZNAME:EDT
DTSTART:20230312T070000
END:DAYLIGHT
BEGIN:STANDARD
TZOFFSETFROM:-0400
TZOFFSETTO:-0500
TZNAME:EST
DTSTART:20231105T060000
END:STANDARD
BEGIN:DAYLIGHT
TZOFFSETFROM:-0500
TZOFFSETTO:-0400
TZNAME:EDT
DTSTART:20240310T070000
END:DAYLIGHT
BEGIN:STANDARD
TZOFFSETFROM:-0400
TZOFFSETTO:-0500
TZNAME:EST
DTSTART:20241103T060000
END:STANDARD
BEGIN:DAYLIGHT
TZOFFSETFROM:-0500
TZOFFSETTO:-0400
TZNAME:EDT
DTSTART:20250309T070000
END:DAYLIGHT
BEGIN:STANDARD
TZOFFSETFROM:-0400
TZOFFSETTO:-0500
TZNAME:EST
DTSTART:20251102T060000
END:STANDARD
END:VTIMEZONE
BEGIN:VTIMEZONE
TZID:America/Toronto
BEGIN:DAYLIGHT
TZOFFSETFROM:-0500
TZOFFSETTO:-0400
TZNAME:EDT
DTSTART:20230312T070000
END:DAYLIGHT
BEGIN:STANDARD
TZOFFSETFROM:-0400
TZOFFSETTO:-0500
TZNAME:EST
DTSTART:20231105T060000
END:STANDARD
BEGIN:DAYLIGHT
TZOFFSETFROM:-0500
TZOFFSETTO:-0400
TZNAME:EDT
DTSTART:20240310T070000
END:DAYLIGHT
BEGIN:STANDARD
TZOFFSETFROM:-0400
TZOFFSETTO:-0500
TZNAME:EST
DTSTART:20241103T060000
END:STANDARD
BEGIN:DAYLIGHT
TZOFFSETFROM:-0500
TZOFFSETTO:-0400
TZNAME:EDT
DTSTART:20250309T070000
END:DAYLIGHT
BEGIN:STANDARD
TZOFFSETFROM:-0400
TZOFFSETTO:-0500
TZNAME:EST
DTSTART:20251102T060000
END:STANDARD
END:VTIMEZONE
BEGIN:VEVENT
DTSTART;TZID=America/New_York:20240606T190000
DTEND;TZID=America/New_York:20240606T200000
DTSTAMP:20260423T165712
CREATED:20240325T153033Z
LAST-MODIFIED:20240531T225703Z
UID:5409-1717700400-1717704000@danceorangeville.com
SUMMARY:Afro-Latino Cuban (group dance)
DESCRIPTION:
URL:https://danceorangeville.com/event/african/
LOCATION:ODSS\, 22 Faulkner Street\, Orangeville
CATEGORIES:Cultural,Group
ORGANIZER;CN="Jonathon Neville":MAILTO:danceorangeville@gmail.com
END:VEVENT
BEGIN:VEVENT
DTSTART;TZID=America/New_York:20240604T200000
DTEND;TZID=America/New_York:20240604T210000
DTSTAMP:20260423T165712
CREATED:20240325T153303Z
LAST-MODIFIED:20240501T181553Z
UID:5429-1717531200-1717534800@danceorangeville.com
SUMMARY:Samba Parade & Roda
DESCRIPTION:
URL:https://danceorangeville.com/event/samba-parade-roda/
LOCATION:Dovercourt House\, 3rd Floor\, 805 Dovercourt Rd\, Toronto\, Ontario\, m6h 2x8\, Canada
CATEGORIES:Cultural,Floor Flow,martial arts
ORGANIZER;CN="Jonathon Neville":MAILTO:danceorangeville@gmail.com
END:VEVENT
BEGIN:VEVENT
DTSTART;TZID=America/New_York:20240604T190000
DTEND;TZID=America/New_York:20240604T200000
DTSTAMP:20260423T165712
CREATED:20240325T153147Z
LAST-MODIFIED:20240501T181305Z
UID:5419-1717527600-1717531200@danceorangeville.com
SUMMARY:Brazil - Samba
DESCRIPTION:
URL:https://danceorangeville.com/event/brazil-samba-3/
LOCATION:Dovercourt House\, 3rd Floor\, 805 Dovercourt Rd\, Toronto\, Ontario\, m6h 2x8\, Canada
CATEGORIES:Ballroom,Cultural,Latin
ORGANIZER;CN="Jonathon Neville":MAILTO:danceorangeville@gmail.com
END:VEVENT
BEGIN:VEVENT
DTSTART;TZID=America/New_York:20240509T190000
DTEND;TZID=America/New_York:20240509T200000
DTSTAMP:20260423T165712
CREATED:20240325T152832Z
LAST-MODIFIED:20240328T154944Z
UID:5404-1715281200-1715284800@danceorangeville.com
SUMMARY:India
DESCRIPTION:
URL:https://danceorangeville.com/event/india/
LOCATION:ODSS\, 22 Faulkner Street\, Orangeville
CATEGORIES:Cultural
ORGANIZER;CN="Jonathon Neville":MAILTO:danceorangeville@gmail.com
END:VEVENT
BEGIN:VEVENT
DTSTART;TZID=America/Toronto:20240330T150000
DTEND;TZID=America/Toronto:20240330T170000
DTSTAMP:20260423T165712
CREATED:20240314T193728Z
LAST-MODIFIED:20240401T173306Z
UID:5202-1711810800-1711818000@danceorangeville.com
SUMMARY:Windrush Estate Winery - Dance Around the World
DESCRIPTION:At Canada’s most awe-inspiring residence / event venue – Windrush Estate Winery – 4 minutes east of Hockley – “Dance Around the World in 80 Days” is getting a 2-hour “executive summary”. Young? Old? Highly-trained? Never trained? All welcome. \nDance Orangeville’s Jonathon Neville will teach a unique lesson that integrates highlights from different dances\, giving the fundamentals that enable improvised solo and partner dancing to diverse music. \nLesson\, open dance and socializing – total 2 hours. Teachers available to dance with you\, whatever your level. Supportive community – absolute beginners with 3 left feet will have a great time. \nIncludes Windrush VQA wine and non-alcoholic drinks with treats.  $35 flat. Free for students under 19 (email to register).  Proceeds help empower marginalized kids through youthLEADarts.com. \nSaturday March 30\, 3-5 pm. \n———- \nNEW ROUND! \n* Thursdays 7-8 pm\, April 11 to June 20. Come when you can. $12 per destination\, or $100 package deal (11 classes\, $132 bought separately). ODSS Dance Studio. Dance Around the World in 80 Days. Schedule and Tickets: danceorangeville.com/series/aroundworld-o2 \n* Mondays 7-8 at Westminster – Spring Swing (The wide world of swing and blues dancing – for Spring) – starts April 15. \n* Mondays 8-9 – Creative Workout – rotating between Floor Flow (like flow yoga but traveling across the floor in dozens of playful/graceful ways)\, MovNat (natural movement for every body)\, and Contact Improv (where partners share weight and dance happens as both follow the shared centre of gravity – born from martial arts but often gentle or playful; optionally can include flying). \nTORONTO:  We also run “Around the World” in Toronto – Dovercourt House\, near Bloor and Dufferin.  Tuesday evenings\, 7-8 and 8-9.
URL:https://danceorangeville.com/event/windrush-estate-winery-dance-around-the-world/
LOCATION:Windrush Estate Winery\, 3100 Concession Rd 3\, Adjala\, Ontario\, L0N 1P0\, Canada
CATEGORIES:Ballroom,Country,Cultural,Floor Flow,Group,Hip Hop / Break,Latin,Salsa+,Swing & Blues
ATTACH;FMTTYPE=image/jpeg:https://danceorangeville.com/wp-content/uploads/Dance-@-Windrush-horizontal-fit-to-Page-cover-scaled.jpg
ORGANIZER;CN="Jonathon Neville":MAILTO:danceorangeville@gmail.com
END:VEVENT
BEGIN:VEVENT
DTSTART;TZID=America/Toronto:20240318T200000
DTEND;TZID=America/Toronto:20240318T210000
DTSTAMP:20260423T165712
CREATED:20240322T193208Z
LAST-MODIFIED:20240322T193208Z
UID:5294-1710792000-1710795600@danceorangeville.com
SUMMARY:Brazil - Samba Variations
DESCRIPTION:
URL:https://danceorangeville.com/event/brazil-samba-variations/
LOCATION:Westminster United\, 247 Broadway\, Orangeville
CATEGORIES:Cultural,Latin
ORGANIZER;CN="Jonathon Neville":MAILTO:danceorangeville@gmail.com
END:VEVENT
BEGIN:VEVENT
DTSTART;TZID=America/Toronto:20240318T190000
DTEND;TZID=America/Toronto:20240318T200000
DTSTAMP:20260423T165712
CREATED:20240322T193106Z
LAST-MODIFIED:20240322T193106Z
UID:5292-1710788400-1710792000@danceorangeville.com
SUMMARY:Brazil - Samba
DESCRIPTION:
URL:https://danceorangeville.com/event/brazil-samba/
LOCATION:Westminster United\, 247 Broadway\, Orangeville
CATEGORIES:Cultural,Latin
ORGANIZER;CN="Jonathon Neville":MAILTO:danceorangeville@gmail.com
END:VEVENT
BEGIN:VEVENT
DTSTART;TZID=America/Toronto:20240304T200000
DTEND;TZID=America/Toronto:20240304T210000
DTSTAMP:20260423T165712
CREATED:20240322T193538Z
LAST-MODIFIED:20240322T193712Z
UID:5298-1709582400-1709586000@danceorangeville.com
SUMMARY:African - Contemporary
DESCRIPTION:with guest teacher Mafa Makhubalo \n\n\n   \n\n\n\n\n\n\n\n\n\n\nView this post on Instagram\n\n\n\n\n\n\n\n\n\n\n\n\n\n\n\n\n\n\n\n\n\n\n \nA post shared by Dance Orangeville (@danceorangeville)
URL:https://danceorangeville.com/event/african-contemporary/
LOCATION:Westminster United\, 247 Broadway\, Orangeville
CATEGORIES:Cultural
ORGANIZER;CN="Jonathon Neville":MAILTO:danceorangeville@gmail.com
END:VEVENT
BEGIN:VEVENT
DTSTART;TZID=America/Toronto:20240304T190000
DTEND;TZID=America/Toronto:20240304T200000
DTSTAMP:20260423T165712
CREATED:20240322T194148Z
LAST-MODIFIED:20240322T194150Z
UID:5301-1709578800-1709582400@danceorangeville.com
SUMMARY:African - Traditional South African
DESCRIPTION:with guest teacher Mafa Makhubalo \n\n\n   \n\n\n\n\n\n\n\n\n\n\nView this post on Instagram\n\n\n\n\n\n\n\n\n\n\n\n\n\n\n\n\n\n\n\n\n\n\n \nA post shared by Dance Orangeville (@danceorangeville) \n\n\n\n  \n\n\n   \n\n\n\n\n\n\n\n\n\n\nView this post on Instagram\n\n\n\n\n\n\n\n\n\n\n\n\n\n\n\n\n\n\n\n\n\n\n \nA post shared by Dance Orangeville (@danceorangeville)
URL:https://danceorangeville.com/event/african-traditional/
LOCATION:Westminster United\, 247 Broadway\, Orangeville
CATEGORIES:Cultural
ORGANIZER;CN="Jonathon Neville":MAILTO:danceorangeville@gmail.com
END:VEVENT
END:VCALENDAR