BEGIN:VCALENDAR
VERSION:2.0
PRODID:-//Dance Orangeville - ECPv6.15.20//NONSGML v1.0//EN
CALSCALE:GREGORIAN
METHOD:PUBLISH
X-ORIGINAL-URL:https://danceorangeville.com
X-WR-CALDESC:Events for Dance Orangeville
REFRESH-INTERVAL;VALUE=DURATION:PT1H
X-Robots-Tag:noindex
X-PUBLISHED-TTL:PT1H
BEGIN:VTIMEZONE
TZID:America/Toronto
BEGIN:DAYLIGHT
TZOFFSETFROM:-0500
TZOFFSETTO:-0400
TZNAME:EDT
DTSTART:20230312T070000
END:DAYLIGHT
BEGIN:STANDARD
TZOFFSETFROM:-0400
TZOFFSETTO:-0500
TZNAME:EST
DTSTART:20231105T060000
END:STANDARD
BEGIN:DAYLIGHT
TZOFFSETFROM:-0500
TZOFFSETTO:-0400
TZNAME:EDT
DTSTART:20240310T070000
END:DAYLIGHT
BEGIN:STANDARD
TZOFFSETFROM:-0400
TZOFFSETTO:-0500
TZNAME:EST
DTSTART:20241103T060000
END:STANDARD
BEGIN:DAYLIGHT
TZOFFSETFROM:-0500
TZOFFSETTO:-0400
TZNAME:EDT
DTSTART:20250309T070000
END:DAYLIGHT
BEGIN:STANDARD
TZOFFSETFROM:-0400
TZOFFSETTO:-0500
TZNAME:EST
DTSTART:20251102T060000
END:STANDARD
BEGIN:DAYLIGHT
TZOFFSETFROM:-0500
TZOFFSETTO:-0400
TZNAME:EDT
DTSTART:20260308T070000
END:DAYLIGHT
BEGIN:STANDARD
TZOFFSETFROM:-0400
TZOFFSETTO:-0500
TZNAME:EST
DTSTART:20261101T060000
END:STANDARD
BEGIN:DAYLIGHT
TZOFFSETFROM:-0500
TZOFFSETTO:-0400
TZNAME:EDT
DTSTART:20270314T070000
END:DAYLIGHT
BEGIN:STANDARD
TZOFFSETFROM:-0400
TZOFFSETTO:-0500
TZNAME:EST
DTSTART:20271107T060000
END:STANDARD
END:VTIMEZONE
BEGIN:VTIMEZONE
TZID:America/New_York
BEGIN:DAYLIGHT
TZOFFSETFROM:-0500
TZOFFSETTO:-0400
TZNAME:EDT
DTSTART:20230312T070000
END:DAYLIGHT
BEGIN:STANDARD
TZOFFSETFROM:-0400
TZOFFSETTO:-0500
TZNAME:EST
DTSTART:20231105T060000
END:STANDARD
BEGIN:DAYLIGHT
TZOFFSETFROM:-0500
TZOFFSETTO:-0400
TZNAME:EDT
DTSTART:20240310T070000
END:DAYLIGHT
BEGIN:STANDARD
TZOFFSETFROM:-0400
TZOFFSETTO:-0500
TZNAME:EST
DTSTART:20241103T060000
END:STANDARD
BEGIN:DAYLIGHT
TZOFFSETFROM:-0500
TZOFFSETTO:-0400
TZNAME:EDT
DTSTART:20250309T070000
END:DAYLIGHT
BEGIN:STANDARD
TZOFFSETFROM:-0400
TZOFFSETTO:-0500
TZNAME:EST
DTSTART:20251102T060000
END:STANDARD
END:VTIMEZONE
BEGIN:VEVENT
DTSTART;TZID=America/Toronto:20260214T090000
DTEND;TZID=America/Toronto:20260214T220000
DTSTAMP:20260423T153459
CREATED:20251125T032520Z
LAST-MODIFIED:20260204T150151Z
UID:6482-1771059600-1771106400@danceorangeville.com
SUMMARY:All-Day Community Play Day
DESCRIPTION:Welcome!  Our next events will include activities like music-making\, sports\, nature\, videography\, theatre games\, dance\, and practical DIY skills.  This time it’s yoga\, circus\, and many different dance styles.  Most classes teach specific steps. Prefer something free-form – something you don’t need to remember?  Come to the lesson during the Valentine’s Dance\, and also to the “One-Step” and “Blues” classes.  You don’t need to know anything.  Just find more fun on the dance floor.  Come solo\, with a partner\, or a group. \n \nWant to run a future class?  Want to help out as an assistant?\nWant to come and have fun?\nAny questions?\ndanceorangeville@gmail.com / 416-763-6565 / @danceorangeville
URL:https://danceorangeville.com/event/community/
LOCATION:Mono Community Centre\, 754483 Mono Centre Rd\, Orangeville\, Ontario\, L9W 5W9\, Canada
CATEGORIES:Ballroom,Contact Improv,Country,event,Group,Latin,martial arts,music-making,Salsa+,Swing & Blues,theatre,workout,yoga
ORGANIZER;CN="Jonathon Neville":MAILTO:danceorangeville@gmail.com
END:VEVENT
BEGIN:VEVENT
DTSTART;TZID=America/New_York:20240606T190000
DTEND;TZID=America/New_York:20240606T200000
DTSTAMP:20260423T153459
CREATED:20240325T153033Z
LAST-MODIFIED:20240531T225703Z
UID:5409-1717700400-1717704000@danceorangeville.com
SUMMARY:Afro-Latino Cuban (group dance)
DESCRIPTION:
URL:https://danceorangeville.com/event/african/
LOCATION:ODSS\, 22 Faulkner Street\, Orangeville
CATEGORIES:Cultural,Group
ORGANIZER;CN="Jonathon Neville":MAILTO:danceorangeville@gmail.com
END:VEVENT
BEGIN:VEVENT
DTSTART;TZID=America/New_York:20240530T190000
DTEND;TZID=America/New_York:20240530T200000
DTSTAMP:20260423T153459
CREATED:20240325T152834Z
LAST-MODIFIED:20240614T221948Z
UID:5408-1717095600-1717099200@danceorangeville.com
SUMMARY:Folk Dance - Greece/Turkey\, Hungary\, Sweden
DESCRIPTION:Party folk dances from around the world. Folk dances can be performed formally for an audience (often too formally)\, or informally at a party. This class is a party. Current session: dances from Greece/Turkey\, Hungary\, and Sweden (Midsommar!)
URL:https://danceorangeville.com/event/folk-dance/
LOCATION:ODSS\, 22 Faulkner Street\, Orangeville
CATEGORIES:Group
ORGANIZER;CN="Jonathon Neville":MAILTO:danceorangeville@gmail.com
END:VEVENT
BEGIN:VEVENT
DTSTART;TZID=America/New_York:20240427T090000
DTEND;TZID=America/New_York:20240427T235900
DTSTAMP:20260423T153459
CREATED:20240325T152017Z
LAST-MODIFIED:20240501T183827Z
UID:5374-1714208400-1714262340@danceorangeville.com
SUMMARY:The Great Escape* / Creating a Community Centre**
DESCRIPTION:Two names: one for Toronto people\, one for Orangeville/Mono-area people. \nA whole day of events – 13 hours – come when you can. \nDance (many styles)\, Yoga\, Music-Making\, Invented Sports\, Theatre Games\, Nature-Loving\, Practical Skills\, Card Games\, Board Games\, Circus\, and more. \nHave an idea? Want to lead something? 416-763-6565. \n(Only read the following if you wonder why people from outside our community/region belong at an event about creating a community centre.\nIf more people think of Mono Community Centre as a place where great things happen\, then yes that helps create a community centre. Focusing on Mono residents’ experience\, if Mono residents trust there will be more people joining\, so it’s worth offering classes or going to events\, then again allowing outsiders to join helps create a community centre.)
URL:https://danceorangeville.com/event/the-great-escape-creating-a-community-centre/
LOCATION:Mono Community Centre\, 754483 Mono Centre Rd\, Orangeville\, Ontario\, L9W 5W9\, Canada
CATEGORIES:Ballroom,Contact Improv,Country,event,Floor Flow,Group,martial arts,music-making,nature,Salsa+,Swing & Blues,theatre,yoga
ATTACH;FMTTYPE=image/jpeg:https://danceorangeville.com/wp-content/uploads/Mono-Making-a-Community-Centre-square-play-day-1.jpg
ORGANIZER;CN="Jonathon Neville":MAILTO:danceorangeville@gmail.com
END:VEVENT
BEGIN:VEVENT
DTSTART;TZID=America/New_York:20240409T200000
DTEND;TZID=America/New_York:20240409T210000
DTSTAMP:20260423T153459
CREATED:20240325T153252Z
LAST-MODIFIED:20240501T183513Z
UID:5425-1712692800-1712696400@danceorangeville.com
SUMMARY:Square Dance
DESCRIPTION:
URL:https://danceorangeville.com/event/square-dance-4/
LOCATION:Dovercourt House\, 3rd Floor\, 805 Dovercourt Rd\, Toronto\, Ontario\, m6h 2x8\, Canada
CATEGORIES:Country,Group
ORGANIZER;CN="Jonathon Neville":MAILTO:danceorangeville@gmail.com
END:VEVENT
BEGIN:VEVENT
DTSTART;TZID=America/Toronto:20240330T150000
DTEND;TZID=America/Toronto:20240330T170000
DTSTAMP:20260423T153500
CREATED:20240314T193728Z
LAST-MODIFIED:20240401T173306Z
UID:5202-1711810800-1711818000@danceorangeville.com
SUMMARY:Windrush Estate Winery - Dance Around the World
DESCRIPTION:At Canada’s most awe-inspiring residence / event venue – Windrush Estate Winery – 4 minutes east of Hockley – “Dance Around the World in 80 Days” is getting a 2-hour “executive summary”. Young? Old? Highly-trained? Never trained? All welcome. \nDance Orangeville’s Jonathon Neville will teach a unique lesson that integrates highlights from different dances\, giving the fundamentals that enable improvised solo and partner dancing to diverse music. \nLesson\, open dance and socializing – total 2 hours. Teachers available to dance with you\, whatever your level. Supportive community – absolute beginners with 3 left feet will have a great time. \nIncludes Windrush VQA wine and non-alcoholic drinks with treats.  $35 flat. Free for students under 19 (email to register).  Proceeds help empower marginalized kids through youthLEADarts.com. \nSaturday March 30\, 3-5 pm. \n———- \nNEW ROUND! \n* Thursdays 7-8 pm\, April 11 to June 20. Come when you can. $12 per destination\, or $100 package deal (11 classes\, $132 bought separately). ODSS Dance Studio. Dance Around the World in 80 Days. Schedule and Tickets: danceorangeville.com/series/aroundworld-o2 \n* Mondays 7-8 at Westminster – Spring Swing (The wide world of swing and blues dancing – for Spring) – starts April 15. \n* Mondays 8-9 – Creative Workout – rotating between Floor Flow (like flow yoga but traveling across the floor in dozens of playful/graceful ways)\, MovNat (natural movement for every body)\, and Contact Improv (where partners share weight and dance happens as both follow the shared centre of gravity – born from martial arts but often gentle or playful; optionally can include flying). \nTORONTO:  We also run “Around the World” in Toronto – Dovercourt House\, near Bloor and Dufferin.  Tuesday evenings\, 7-8 and 8-9.
URL:https://danceorangeville.com/event/windrush-estate-winery-dance-around-the-world/
LOCATION:Windrush Estate Winery\, 3100 Concession Rd 3\, Adjala\, Ontario\, L0N 1P0\, Canada
CATEGORIES:Ballroom,Country,Cultural,Floor Flow,Group,Hip Hop / Break,Latin,Salsa+,Swing & Blues
ATTACH;FMTTYPE=image/jpeg:https://danceorangeville.com/wp-content/uploads/Dance-@-Windrush-horizontal-fit-to-Page-cover-scaled.jpg
ORGANIZER;CN="Jonathon Neville":MAILTO:danceorangeville@gmail.com
END:VEVENT
BEGIN:VEVENT
DTSTART;TZID=America/Toronto:20240325T200000
DTEND;TZID=America/Toronto:20240325T210000
DTSTAMP:20260423T153500
CREATED:20240321T210213Z
LAST-MODIFIED:20240322T112901Z
UID:5265-1711396800-1711400400@danceorangeville.com
SUMMARY:Scottish Ceilidh / Irish Ceili
DESCRIPTION:Beginners’ Class.  (All levels welcome!)\n$10\nPreceded 7-8 pm by Square Dance.\n$15 for both.
URL:https://danceorangeville.com/event/scottish-ceilidh-irish-ceili/
LOCATION:Westminster United\, 247 Broadway\, Orangeville
CATEGORIES:Group
ORGANIZER;CN="Jonathon Neville":MAILTO:danceorangeville@gmail.com
END:VEVENT
BEGIN:VEVENT
DTSTART;TZID=America/Toronto:20240325T190000
DTEND;TZID=America/Toronto:20240325T200000
DTSTAMP:20260423T153500
CREATED:20240321T205951Z
LAST-MODIFIED:20240322T120403Z
UID:5263-1711393200-1711396800@danceorangeville.com
SUMMARY:Square Dance
DESCRIPTION:Beginners’ Class.  (All levels welcome!)\n$10\nFollowed at 8 by a Scottish Ceilidh / Irish Ceili.\n$15 for both.
URL:https://danceorangeville.com/event/square-dance-3/
LOCATION:Westminster United\, 247 Broadway\, Orangeville
CATEGORIES:Group
ORGANIZER;CN="Jonathon Neville":MAILTO:danceorangeville@gmail.com
END:VEVENT
END:VCALENDAR