BEGIN:VCALENDAR
VERSION:2.0
PRODID:-//Dance Orangeville - ECPv6.15.20//NONSGML v1.0//EN
CALSCALE:GREGORIAN
METHOD:PUBLISH
X-WR-CALNAME:Dance Orangeville
X-ORIGINAL-URL:https://danceorangeville.com
X-WR-CALDESC:Events for Dance Orangeville
REFRESH-INTERVAL;VALUE=DURATION:PT1H
X-Robots-Tag:noindex
X-PUBLISHED-TTL:PT1H
BEGIN:VTIMEZONE
TZID:America/Toronto
BEGIN:DAYLIGHT
TZOFFSETFROM:-0500
TZOFFSETTO:-0400
TZNAME:EDT
DTSTART:20230312T070000
END:DAYLIGHT
BEGIN:STANDARD
TZOFFSETFROM:-0400
TZOFFSETTO:-0500
TZNAME:EST
DTSTART:20231105T060000
END:STANDARD
BEGIN:DAYLIGHT
TZOFFSETFROM:-0500
TZOFFSETTO:-0400
TZNAME:EDT
DTSTART:20240310T070000
END:DAYLIGHT
BEGIN:STANDARD
TZOFFSETFROM:-0400
TZOFFSETTO:-0500
TZNAME:EST
DTSTART:20241103T060000
END:STANDARD
BEGIN:DAYLIGHT
TZOFFSETFROM:-0500
TZOFFSETTO:-0400
TZNAME:EDT
DTSTART:20250309T070000
END:DAYLIGHT
BEGIN:STANDARD
TZOFFSETFROM:-0400
TZOFFSETTO:-0500
TZNAME:EST
DTSTART:20251102T060000
END:STANDARD
END:VTIMEZONE
BEGIN:VEVENT
DTSTART;TZID=America/Toronto:20240507T190000
DTEND;TZID=America/Toronto:20240507T210000
DTSTAMP:20260425T075804
CREATED:20240501T113542Z
LAST-MODIFIED:20240508T141652Z
UID:6017-1715108400-1715115600@danceorangeville.com
SUMMARY:Dance with the Stars - The Performers Teach
DESCRIPTION:Theatre Orangeville‘s current show tells a history of Black American music. The creators/performers trained at Alvin Ailey / Steps on Broadway\, and got a BFA in dance / toured the US national production of Fosse. Dance Orangeville invited them to each teach a dance class while they’re in town.  \n$10 per class or $16 for both.  e-transfer to dance@danceorangeville.com.  At ODSS Cafetorium. \n \nTo get to the ODSS (Orangeville District Seconday School) Cafetorium\, go to the parking lot\, past the greenhouse\, and enter the building. Turn right\, and within 100 feet you’ll be at the entrance to the cafetorium.\n \n#orangeville #danceorangeville #orangevilledance #orangevillemusic #jazz #OrangevilleBluesandJazz #dufferincounty #shelburneontario #downtownorangeville #ODSS #adultsdance
URL:https://danceorangeville.com/event/dance-with-the-stars-theatre-orangeville-strutters/
LOCATION:ODSS\, 22 Faulkner Street\, Orangeville
CATEGORIES:event,Jazz
ORGANIZER;CN="Jonathon Neville":MAILTO:danceorangeville@gmail.com
END:VEVENT
END:VCALENDAR