BEGIN:VCALENDAR
VERSION:2.0
PRODID:-//Dance Orangeville - ECPv6.15.20//NONSGML v1.0//EN
CALSCALE:GREGORIAN
METHOD:PUBLISH
X-WR-CALNAME:Dance Orangeville
X-ORIGINAL-URL:https://danceorangeville.com
X-WR-CALDESC:Events for Dance Orangeville
REFRESH-INTERVAL;VALUE=DURATION:PT1H
X-Robots-Tag:noindex
X-PUBLISHED-TTL:PT1H
BEGIN:VTIMEZONE
TZID:America/New_York
BEGIN:DAYLIGHT
TZOFFSETFROM:-0500
TZOFFSETTO:-0400
TZNAME:EDT
DTSTART:20230312T070000
END:DAYLIGHT
BEGIN:STANDARD
TZOFFSETFROM:-0400
TZOFFSETTO:-0500
TZNAME:EST
DTSTART:20231105T060000
END:STANDARD
BEGIN:DAYLIGHT
TZOFFSETFROM:-0500
TZOFFSETTO:-0400
TZNAME:EDT
DTSTART:20240310T070000
END:DAYLIGHT
BEGIN:STANDARD
TZOFFSETFROM:-0400
TZOFFSETTO:-0500
TZNAME:EST
DTSTART:20241103T060000
END:STANDARD
BEGIN:DAYLIGHT
TZOFFSETFROM:-0500
TZOFFSETTO:-0400
TZNAME:EDT
DTSTART:20250309T070000
END:DAYLIGHT
BEGIN:STANDARD
TZOFFSETFROM:-0400
TZOFFSETTO:-0500
TZNAME:EST
DTSTART:20251102T060000
END:STANDARD
END:VTIMEZONE
BEGIN:VEVENT
DTSTART;TZID=America/New_York:20240427T090000
DTEND;TZID=America/New_York:20240427T235900
DTSTAMP:20260423T154119
CREATED:20240325T152017Z
LAST-MODIFIED:20240501T183827Z
UID:5374-1714208400-1714262340@danceorangeville.com
SUMMARY:The Great Escape* / Creating a Community Centre**
DESCRIPTION:Two names: one for Toronto people\, one for Orangeville/Mono-area people. \nA whole day of events – 13 hours – come when you can. \nDance (many styles)\, Yoga\, Music-Making\, Invented Sports\, Theatre Games\, Nature-Loving\, Practical Skills\, Card Games\, Board Games\, Circus\, and more. \nHave an idea? Want to lead something? 416-763-6565. \n(Only read the following if you wonder why people from outside our community/region belong at an event about creating a community centre.\nIf more people think of Mono Community Centre as a place where great things happen\, then yes that helps create a community centre. Focusing on Mono residents’ experience\, if Mono residents trust there will be more people joining\, so it’s worth offering classes or going to events\, then again allowing outsiders to join helps create a community centre.)
URL:https://danceorangeville.com/event/the-great-escape-creating-a-community-centre/
LOCATION:Mono Community Centre\, 754483 Mono Centre Rd\, Orangeville\, Ontario\, L9W 5W9\, Canada
CATEGORIES:Ballroom,Contact Improv,Country,event,Floor Flow,Group,martial arts,music-making,nature,Salsa+,Swing & Blues,theatre,yoga
ATTACH;FMTTYPE=image/jpeg:https://danceorangeville.com/wp-content/uploads/Mono-Making-a-Community-Centre-square-play-day-1.jpg
ORGANIZER;CN="Jonathon Neville":MAILTO:danceorangeville@gmail.com
END:VEVENT
END:VCALENDAR