BEGIN:VCALENDAR
VERSION:2.0
PRODID:-//Dance Orangeville - ECPv6.15.20//NONSGML v1.0//EN
CALSCALE:GREGORIAN
METHOD:PUBLISH
X-ORIGINAL-URL:https://danceorangeville.com
X-WR-CALDESC:Events for Dance Orangeville
REFRESH-INTERVAL;VALUE=DURATION:PT1H
X-Robots-Tag:noindex
X-PUBLISHED-TTL:PT1H
BEGIN:VTIMEZONE
TZID:America/New_York
BEGIN:DAYLIGHT
TZOFFSETFROM:-0500
TZOFFSETTO:-0400
TZNAME:EDT
DTSTART:20220313T070000
END:DAYLIGHT
BEGIN:STANDARD
TZOFFSETFROM:-0400
TZOFFSETTO:-0500
TZNAME:EST
DTSTART:20221106T060000
END:STANDARD
BEGIN:DAYLIGHT
TZOFFSETFROM:-0500
TZOFFSETTO:-0400
TZNAME:EDT
DTSTART:20230312T070000
END:DAYLIGHT
BEGIN:STANDARD
TZOFFSETFROM:-0400
TZOFFSETTO:-0500
TZNAME:EST
DTSTART:20231105T060000
END:STANDARD
BEGIN:DAYLIGHT
TZOFFSETFROM:-0500
TZOFFSETTO:-0400
TZNAME:EDT
DTSTART:20240310T070000
END:DAYLIGHT
BEGIN:STANDARD
TZOFFSETFROM:-0400
TZOFFSETTO:-0500
TZNAME:EST
DTSTART:20241103T060000
END:STANDARD
BEGIN:DAYLIGHT
TZOFFSETFROM:-0500
TZOFFSETTO:-0400
TZNAME:EDT
DTSTART:20250309T070000
END:DAYLIGHT
BEGIN:STANDARD
TZOFFSETFROM:-0400
TZOFFSETTO:-0500
TZNAME:EST
DTSTART:20251102T060000
END:STANDARD
END:VTIMEZONE
BEGIN:VTIMEZONE
TZID:America/Toronto
BEGIN:DAYLIGHT
TZOFFSETFROM:-0500
TZOFFSETTO:-0400
TZNAME:EDT
DTSTART:20220313T070000
END:DAYLIGHT
BEGIN:STANDARD
TZOFFSETFROM:-0400
TZOFFSETTO:-0500
TZNAME:EST
DTSTART:20221106T060000
END:STANDARD
BEGIN:DAYLIGHT
TZOFFSETFROM:-0500
TZOFFSETTO:-0400
TZNAME:EDT
DTSTART:20230312T070000
END:DAYLIGHT
BEGIN:STANDARD
TZOFFSETFROM:-0400
TZOFFSETTO:-0500
TZNAME:EST
DTSTART:20231105T060000
END:STANDARD
BEGIN:DAYLIGHT
TZOFFSETFROM:-0500
TZOFFSETTO:-0400
TZNAME:EDT
DTSTART:20240310T070000
END:DAYLIGHT
BEGIN:STANDARD
TZOFFSETFROM:-0400
TZOFFSETTO:-0500
TZNAME:EST
DTSTART:20241103T060000
END:STANDARD
BEGIN:DAYLIGHT
TZOFFSETFROM:-0500
TZOFFSETTO:-0400
TZNAME:EDT
DTSTART:20250309T070000
END:DAYLIGHT
BEGIN:STANDARD
TZOFFSETFROM:-0400
TZOFFSETTO:-0500
TZNAME:EST
DTSTART:20251102T060000
END:STANDARD
END:VTIMEZONE
BEGIN:VEVENT
DTSTART;TZID=America/New_York:20240415T200000
DTEND;TZID=America/New_York:20240415T210000
DTSTAMP:20260425T064810
CREATED:20240325T152230Z
LAST-MODIFIED:20240325T152230Z
UID:5389-1713211200-1713214800@danceorangeville.com
SUMMARY:MovNat
DESCRIPTION:
URL:https://danceorangeville.com/event/movnat/
LOCATION:Westminster United\, 247 Broadway\, Orangeville
ORGANIZER;CN="Jonathon Neville":MAILTO:danceorangeville@gmail.com
END:VEVENT
BEGIN:VEVENT
DTSTART;TZID=America/New_York:20240415T190000
DTEND;TZID=America/New_York:20240415T200000
DTSTAMP:20260425T064810
CREATED:20240325T152033Z
LAST-MODIFIED:20240328T073202Z
UID:5377-1713207600-1713211200@danceorangeville.com
SUMMARY:Swing: Lindy Hop
DESCRIPTION:The original swing dance. The first social partner dance where you aren’t always in some version of a close hold\, often “swinging out”.  Can be gentle or athletic.
URL:https://danceorangeville.com/event/swing-lindy-hop/
LOCATION:Westminster United\, 247 Broadway\, Orangeville
CATEGORIES:Swing & Blues
ORGANIZER;CN="Jonathon Neville":MAILTO:danceorangeville@gmail.com
END:VEVENT
BEGIN:VEVENT
DTSTART;TZID=America/New_York:20240411T190000
DTEND;TZID=America/New_York:20240411T200000
DTSTAMP:20260425T064810
CREATED:20240325T152632Z
LAST-MODIFIED:20240401T160854Z
UID:5400-1712862000-1712865600@danceorangeville.com
SUMMARY:Swing
DESCRIPTION:You can’t dance swing without smiling. Learn to dance with snazzy syncopations\, spontaneity and serendipity.
URL:https://danceorangeville.com/event/swing-9/
LOCATION:ODSS\, 22 Faulkner Street\, Orangeville
CATEGORIES:Swing & Blues
ORGANIZER;CN="Jonathon Neville":MAILTO:danceorangeville@gmail.com
END:VEVENT
BEGIN:VEVENT
DTSTART;TZID=America/New_York:20240409T200000
DTEND;TZID=America/New_York:20240409T210000
DTSTAMP:20260425T064810
CREATED:20240325T153252Z
LAST-MODIFIED:20240501T183513Z
UID:5425-1712692800-1712696400@danceorangeville.com
SUMMARY:Square Dance
DESCRIPTION:
URL:https://danceorangeville.com/event/square-dance-4/
LOCATION:Dovercourt House\, 3rd Floor\, 805 Dovercourt Rd\, Toronto\, Ontario\, m6h 2x8\, Canada
CATEGORIES:Country,Group
ORGANIZER;CN="Jonathon Neville":MAILTO:danceorangeville@gmail.com
END:VEVENT
BEGIN:VEVENT
DTSTART;TZID=America/New_York:20240409T190000
DTEND;TZID=America/New_York:20240409T200000
DTSTAMP:20260425T064810
CREATED:20240325T153133Z
LAST-MODIFIED:20240328T084712Z
UID:5415-1712689200-1712692800@danceorangeville.com
SUMMARY:Contact Improv
DESCRIPTION:
URL:https://danceorangeville.com/event/contact-improv-10/
LOCATION:Dovercourt House\, 3rd Floor\, 805 Dovercourt Rd\, Toronto\, Ontario\, m6h 2x8\, Canada
CATEGORIES:Floor Flow,workout
ORGANIZER;CN="Jonathon Neville":MAILTO:danceorangeville@gmail.com
END:VEVENT
BEGIN:VEVENT
DTSTART;TZID=America/New_York:20240409T180000
DTEND;TZID=America/New_York:20240409T190000
DTSTAMP:20260425T064810
CREATED:20240325T152027Z
LAST-MODIFIED:20240327T210240Z
UID:5375-1712685600-1712689200@danceorangeville.com
SUMMARY:Hip Hop - guest: Nic
DESCRIPTION:Hip Hop Footwork is the focus\, but Nic is open to requests.  See the video!
URL:https://danceorangeville.com/event/hip-hop-guest-nic/
LOCATION:Westminster United\, 247 Broadway\, Orangeville
CATEGORIES:Hip Hop / Break
ORGANIZER;CN="Jonathon Neville":MAILTO:danceorangeville@gmail.com
END:VEVENT
BEGIN:VEVENT
DTSTART;TZID=America/New_York:20240408T200000
DTEND;TZID=America/New_York:20240408T210000
DTSTAMP:20260425T064810
CREATED:20240325T152217Z
LAST-MODIFIED:20240325T152217Z
UID:5388-1712606400-1712610000@danceorangeville.com
SUMMARY:Floor Flow
DESCRIPTION:
URL:https://danceorangeville.com/event/floor-flow/
LOCATION:Westminster United\, 247 Broadway\, Orangeville
ORGANIZER;CN="Jonathon Neville":MAILTO:danceorangeville@gmail.com
END:VEVENT
BEGIN:VEVENT
DTSTART;TZID=America/Toronto:20240408T190000
DTEND;TZID=America/Toronto:20240408T200000
DTSTAMP:20260425T064810
CREATED:20240321T205202Z
LAST-MODIFIED:20240328T092443Z
UID:5259-1712602800-1712606400@danceorangeville.com
SUMMARY:Hip Hop & Breakdance
DESCRIPTION:Awesome video!  (54 seconds)\nThe primary focus of this class is intended to be footwork\, but Nic is open to requests.\nFinger-Tutting/Waving\, Backspins\, Martial Arts \n(You may want to stay for the 8-9 pm class: Floor Flow Floor-play\, by Jonathon Neville. $10 per class\, or take both classes for $15.) \nhttps://danceorangeville.com/wp-content/uploads/Nic-Rodrigo-The-Shadow-Js-short-edit-with-DO-logo-6-mbps-max-2.5-avg.mp4
URL:https://danceorangeville.com/event/hiphop-breakdance-nic/
LOCATION:Westminster United\, 247 Broadway\, Orangeville
CATEGORIES:Floor Flow,Hip Hop / Break,workout
ORGANIZER;CN="Jonathon Neville":MAILTO:danceorangeville@gmail.com
END:VEVENT
BEGIN:VEVENT
DTSTART;TZID=America/Toronto:20240402T200000
DTEND;TZID=America/Toronto:20240402T210000
DTSTAMP:20260425T064810
CREATED:20240322T195911Z
LAST-MODIFIED:20240322T195911Z
UID:5313-1712088000-1712091600@danceorangeville.com
SUMMARY:Cha Cha & Merengue
DESCRIPTION:7pm: Cuban Rumba vs Ballroom Rumba\n8pm: Cha cha & Merengue \n6pm: Floor Flow\n9-11: Dance Freedom  (diverse dancing / open studio)
URL:https://danceorangeville.com/event/cha-cha-merengue/
LOCATION:Dovercourt House\, 3rd Floor\, 805 Dovercourt Rd\, Toronto\, Ontario\, m6h 2x8\, Canada
CATEGORIES:Latin
ORGANIZER;CN="Jonathon Neville":MAILTO:danceorangeville@gmail.com
END:VEVENT
BEGIN:VEVENT
DTSTART;TZID=America/Toronto:20240402T190000
DTEND;TZID=America/Toronto:20240402T200000
DTSTAMP:20260425T064810
CREATED:20240322T195637Z
LAST-MODIFIED:20240322T195949Z
UID:5311-1712084400-1712088000@danceorangeville.com
SUMMARY:Rumba - Cuban vs Ballroom
DESCRIPTION:7pm: Cuban Rumba vs Ballroom Rumba\n8pm: Cha cha & Merengue \n6pm: Floor Flow\n9-11: Dance Freedom  (diverse dancing / open studio)
URL:https://danceorangeville.com/event/rumba-cuban-vs-ballroom/
LOCATION:Dovercourt House\, 3rd Floor\, 805 Dovercourt Rd\, Toronto\, Ontario\, m6h 2x8\, Canada
CATEGORIES:Latin
ORGANIZER;CN="Jonathon Neville":MAILTO:danceorangeville@gmail.com
END:VEVENT
BEGIN:VEVENT
DTSTART;TZID=America/Toronto:20240330T150000
DTEND;TZID=America/Toronto:20240330T170000
DTSTAMP:20260425T064810
CREATED:20240314T193728Z
LAST-MODIFIED:20240401T173306Z
UID:5202-1711810800-1711818000@danceorangeville.com
SUMMARY:Windrush Estate Winery - Dance Around the World
DESCRIPTION:At Canada’s most awe-inspiring residence / event venue – Windrush Estate Winery – 4 minutes east of Hockley – “Dance Around the World in 80 Days” is getting a 2-hour “executive summary”. Young? Old? Highly-trained? Never trained? All welcome. \nDance Orangeville’s Jonathon Neville will teach a unique lesson that integrates highlights from different dances\, giving the fundamentals that enable improvised solo and partner dancing to diverse music. \nLesson\, open dance and socializing – total 2 hours. Teachers available to dance with you\, whatever your level. Supportive community – absolute beginners with 3 left feet will have a great time. \nIncludes Windrush VQA wine and non-alcoholic drinks with treats.  $35 flat. Free for students under 19 (email to register).  Proceeds help empower marginalized kids through youthLEADarts.com. \nSaturday March 30\, 3-5 pm. \n———- \nNEW ROUND! \n* Thursdays 7-8 pm\, April 11 to June 20. Come when you can. $12 per destination\, or $100 package deal (11 classes\, $132 bought separately). ODSS Dance Studio. Dance Around the World in 80 Days. Schedule and Tickets: danceorangeville.com/series/aroundworld-o2 \n* Mondays 7-8 at Westminster – Spring Swing (The wide world of swing and blues dancing – for Spring) – starts April 15. \n* Mondays 8-9 – Creative Workout – rotating between Floor Flow (like flow yoga but traveling across the floor in dozens of playful/graceful ways)\, MovNat (natural movement for every body)\, and Contact Improv (where partners share weight and dance happens as both follow the shared centre of gravity – born from martial arts but often gentle or playful; optionally can include flying). \nTORONTO:  We also run “Around the World” in Toronto – Dovercourt House\, near Bloor and Dufferin.  Tuesday evenings\, 7-8 and 8-9.
URL:https://danceorangeville.com/event/windrush-estate-winery-dance-around-the-world/
LOCATION:Windrush Estate Winery\, 3100 Concession Rd 3\, Adjala\, Ontario\, L0N 1P0\, Canada
CATEGORIES:Ballroom,Country,Cultural,Floor Flow,Group,Hip Hop / Break,Latin,Salsa+,Swing & Blues
ATTACH;FMTTYPE=image/jpeg:https://danceorangeville.com/wp-content/uploads/Dance-@-Windrush-horizontal-fit-to-Page-cover-scaled.jpg
ORGANIZER;CN="Jonathon Neville":MAILTO:danceorangeville@gmail.com
END:VEVENT
BEGIN:VEVENT
DTSTART;TZID=America/Toronto:20240326T200000
DTEND;TZID=America/Toronto:20240326T210000
DTSTAMP:20260425T064810
CREATED:20240321T185814Z
LAST-MODIFIED:20240322T115830Z
UID:5256-1711483200-1711486800@danceorangeville.com
SUMMARY:Foxtrot & Polka
DESCRIPTION:
URL:https://danceorangeville.com/event/foxtrot-polka-toronto/
LOCATION:Dovercourt House\, 3rd Floor\, 805 Dovercourt Rd\, Toronto\, Ontario\, m6h 2x8\, Canada
CATEGORIES:Ballroom
ORGANIZER;CN="Jonathon Neville":MAILTO:danceorangeville@gmail.com
END:VEVENT
BEGIN:VEVENT
DTSTART;TZID=America/Toronto:20240326T190000
DTEND;TZID=America/Toronto:20240326T200000
DTSTAMP:20260425T064810
CREATED:20240321T183413Z
LAST-MODIFIED:20240322T120201Z
UID:5249-1711479600-1711483200@danceorangeville.com
SUMMARY:Around World: Waltz
DESCRIPTION:Learn to Waltz
URL:https://danceorangeville.com/event/waltz-5/
LOCATION:Dovercourt House\, 3rd Floor\, 805 Dovercourt Rd\, Toronto\, Ontario\, m6h 2x8\, Canada
CATEGORIES:Ballroom
ORGANIZER;CN="Jonathon Neville":MAILTO:danceorangeville@gmail.com
END:VEVENT
BEGIN:VEVENT
DTSTART;TZID=America/Toronto:20240325T200000
DTEND;TZID=America/Toronto:20240325T210000
DTSTAMP:20260425T064810
CREATED:20240321T210213Z
LAST-MODIFIED:20240322T112901Z
UID:5265-1711396800-1711400400@danceorangeville.com
SUMMARY:Scottish Ceilidh / Irish Ceili
DESCRIPTION:Beginners’ Class.  (All levels welcome!)\n$10\nPreceded 7-8 pm by Square Dance.\n$15 for both.
URL:https://danceorangeville.com/event/scottish-ceilidh-irish-ceili/
LOCATION:Westminster United\, 247 Broadway\, Orangeville
CATEGORIES:Group
ORGANIZER;CN="Jonathon Neville":MAILTO:danceorangeville@gmail.com
END:VEVENT
BEGIN:VEVENT
DTSTART;TZID=America/Toronto:20240325T190000
DTEND;TZID=America/Toronto:20240325T200000
DTSTAMP:20260425T064810
CREATED:20240321T205951Z
LAST-MODIFIED:20240322T120403Z
UID:5263-1711393200-1711396800@danceorangeville.com
SUMMARY:Square Dance
DESCRIPTION:Beginners’ Class.  (All levels welcome!)\n$10\nFollowed at 8 by a Scottish Ceilidh / Irish Ceili.\n$15 for both.
URL:https://danceorangeville.com/event/square-dance-3/
LOCATION:Westminster United\, 247 Broadway\, Orangeville
CATEGORIES:Group
ORGANIZER;CN="Jonathon Neville":MAILTO:danceorangeville@gmail.com
END:VEVENT
BEGIN:VEVENT
DTSTART;TZID=America/Toronto:20240319T200000
DTEND;TZID=America/Toronto:20240319T210000
DTSTAMP:20260425T064810
CREATED:20240322T195010Z
LAST-MODIFIED:20240322T195045Z
UID:5309-1710878400-1710882000@danceorangeville.com
SUMMARY:West Coast Swing
DESCRIPTION:7-8 pm Lindy Hop\, 8-9 pm West Coast Swing   (March 19 only)\nIntro classes – learn a sequence you can repeat or vary\, including the most classic moves from these styles.\n$10 each\, $15 for 2 hours\, or $20 for 3-5 hours the same evening.\nPart of Dovercourt Tuesdays:\n6-7 pm Floor Flow Floor-play.ca\n9-11 pm Dance Freedom \nFull schedule at dancingtoronto.ca/aroundworld.
URL:https://danceorangeville.com/event/west-coast-swing-2/
LOCATION:Dovercourt House\, 3rd Floor\, 805 Dovercourt Rd\, Toronto\, Ontario\, m6h 2x8\, Canada
CATEGORIES:Swing & Blues
ORGANIZER;CN="Jonathon Neville":MAILTO:danceorangeville@gmail.com
END:VEVENT
BEGIN:VEVENT
DTSTART;TZID=America/Toronto:20240319T190000
DTEND;TZID=America/Toronto:20240319T200000
DTSTAMP:20260425T064810
CREATED:20240314T215254Z
LAST-MODIFIED:20240322T195122Z
UID:5226-1710874800-1710878400@danceorangeville.com
SUMMARY:Swing
DESCRIPTION:7-8 pm Lindy Hop\, 8-9 pm West Coast Swing   (March 19 only)\nIntro classes – learn a sequence you can repeat or vary\, including the most classic moves from these styles.\n$10 each\, $15 for 2 hours\, or $20 for 3-5 hours the same evening.\nPart of Dovercourt Tuesdays:\n6-7 pm Floor Flow Floor-play.ca\n9-11 pm Dance Freedom \nFull schedule at dancingtoronto.ca/aroundworld.
URL:https://danceorangeville.com/event/swing-toronto/
LOCATION:Dovercourt House\, 3rd Floor\, 805 Dovercourt Rd\, Toronto\, Ontario\, m6h 2x8\, Canada
CATEGORIES:Swing & Blues
ORGANIZER;CN="Jonathon Neville":MAILTO:danceorangeville@gmail.com
END:VEVENT
BEGIN:VEVENT
DTSTART;TZID=America/Toronto:20240318T200000
DTEND;TZID=America/Toronto:20240318T210000
DTSTAMP:20260425T064810
CREATED:20240322T193208Z
LAST-MODIFIED:20240322T193208Z
UID:5294-1710792000-1710795600@danceorangeville.com
SUMMARY:Brazil - Samba Variations
DESCRIPTION:
URL:https://danceorangeville.com/event/brazil-samba-variations/
LOCATION:Westminster United\, 247 Broadway\, Orangeville
CATEGORIES:Cultural,Latin
ORGANIZER;CN="Jonathon Neville":MAILTO:danceorangeville@gmail.com
END:VEVENT
BEGIN:VEVENT
DTSTART;TZID=America/Toronto:20240318T190000
DTEND;TZID=America/Toronto:20240318T200000
DTSTAMP:20260425T064810
CREATED:20240322T193106Z
LAST-MODIFIED:20240322T193106Z
UID:5292-1710788400-1710792000@danceorangeville.com
SUMMARY:Brazil - Samba
DESCRIPTION:
URL:https://danceorangeville.com/event/brazil-samba/
LOCATION:Westminster United\, 247 Broadway\, Orangeville
CATEGORIES:Cultural,Latin
ORGANIZER;CN="Jonathon Neville":MAILTO:danceorangeville@gmail.com
END:VEVENT
BEGIN:VEVENT
DTSTART;TZID=America/Toronto:20240304T200000
DTEND;TZID=America/Toronto:20240304T210000
DTSTAMP:20260425T064810
CREATED:20240322T193538Z
LAST-MODIFIED:20240322T193712Z
UID:5298-1709582400-1709586000@danceorangeville.com
SUMMARY:African - Contemporary
DESCRIPTION:with guest teacher Mafa Makhubalo \n\n\n   \n\n\n\n\n\n\n\n\n\n\nView this post on Instagram\n\n\n\n\n\n\n\n\n\n\n\n\n\n\n\n\n\n\n\n\n\n\n \nA post shared by Dance Orangeville (@danceorangeville)
URL:https://danceorangeville.com/event/african-contemporary/
LOCATION:Westminster United\, 247 Broadway\, Orangeville
CATEGORIES:Cultural
ORGANIZER;CN="Jonathon Neville":MAILTO:danceorangeville@gmail.com
END:VEVENT
BEGIN:VEVENT
DTSTART;TZID=America/Toronto:20240304T190000
DTEND;TZID=America/Toronto:20240304T200000
DTSTAMP:20260425T064810
CREATED:20240322T194148Z
LAST-MODIFIED:20240322T194150Z
UID:5301-1709578800-1709582400@danceorangeville.com
SUMMARY:African - Traditional South African
DESCRIPTION:with guest teacher Mafa Makhubalo \n\n\n   \n\n\n\n\n\n\n\n\n\n\nView this post on Instagram\n\n\n\n\n\n\n\n\n\n\n\n\n\n\n\n\n\n\n\n\n\n\n \nA post shared by Dance Orangeville (@danceorangeville) \n\n\n\n  \n\n\n   \n\n\n\n\n\n\n\n\n\n\nView this post on Instagram\n\n\n\n\n\n\n\n\n\n\n\n\n\n\n\n\n\n\n\n\n\n\n \nA post shared by Dance Orangeville (@danceorangeville)
URL:https://danceorangeville.com/event/african-traditional/
LOCATION:Westminster United\, 247 Broadway\, Orangeville
CATEGORIES:Cultural
ORGANIZER;CN="Jonathon Neville":MAILTO:danceorangeville@gmail.com
END:VEVENT
BEGIN:VEVENT
DTSTART;TZID=America/Toronto:20240226T200000
DTEND;TZID=America/Toronto:20240226T210000
DTSTAMP:20260425T064810
CREATED:20240322T194809Z
LAST-MODIFIED:20240322T194809Z
UID:5305-1708977600-1708981200@danceorangeville.com
SUMMARY:Spain: Paso Doble
DESCRIPTION:
URL:https://danceorangeville.com/event/paso-doble/
LOCATION:Westminster United\, 247 Broadway\, Orangeville
CATEGORIES:Latin
ORGANIZER;CN="Jonathon Neville":MAILTO:danceorangeville@gmail.com
END:VEVENT
BEGIN:VEVENT
DTSTART;TZID=America/Toronto:20240226T190000
DTEND;TZID=America/Toronto:20240226T200000
DTSTAMP:20260425T064810
CREATED:20240322T194537Z
LAST-MODIFIED:20240322T194537Z
UID:5303-1708974000-1708977600@danceorangeville.com
SUMMARY:Blues
DESCRIPTION:
URL:https://danceorangeville.com/event/blues-2/
LOCATION:Westminster United\, 247 Broadway\, Orangeville
CATEGORIES:Swing & Blues
ORGANIZER;CN="Jonathon Neville":MAILTO:danceorangeville@gmail.com
END:VEVENT
BEGIN:VEVENT
DTSTART;TZID=America/Toronto:20240223T200000
DTEND;TZID=America/Toronto:20240223T235900
DTSTAMP:20260425T064810
CREATED:20240210T074957Z
LAST-MODIFIED:20240210T074957Z
UID:5133-1708718400-1708732740@danceorangeville.com
SUMMARY:Fusion Dance Nights Toronto:  Travelling Turning Together
DESCRIPTION:At “Fusion Dance Nights Toronto“\, Jonathon will teach “Traveling Turning Together” – skills from foxtrot and waltz and polka and swing and salsa. Far-out fusion. \nJonathon teaches and produces classes in many styles of dance\, as seen in his series “Dance Around the World in 80 Days” – coming to Dovercourt House Tuesdays starting Feb 27.\nHis dance productions include Graves-a-Poppin’ (performed at the Canadian Swing Championships; “everyone agreed really stole the show” – History of Swing official summary)\, Neurogenesis (performed at Advances in Neurorehabilitation + other conferences)\, Sexpectations (improv comedy / real live drama)\, and Valentines for All (a social dance experience (being remounted at Dovercourt)).\nHe sees the world’s activity as a dance\, and believes advancing our dancing can save the world.
URL:https://danceorangeville.com/event/fusion-travelling-turning/
LOCATION:The Dance Annex\, 527 Bloor St W\, Toronto\, Canada
END:VEVENT
BEGIN:VEVENT
DTSTART;TZID=America/New_York:20240205T190000
DTEND;TZID=America/New_York:20240205T200000
DTSTAMP:20260425T064810
CREATED:20240327T203857Z
LAST-MODIFIED:20240327T203857Z
UID:5526-1707159600-1707163200@danceorangeville.com
SUMMARY:Around the World in 80 Days
DESCRIPTION:test import past events
URL:https://danceorangeville.com/event/around-the-world-in-80-days/
ORGANIZER;CN="Jonathon Neville":MAILTO:danceorangeville@gmail.com
END:VEVENT
BEGIN:VEVENT
DTSTART;TZID=America/New_York:20231230T100000
DTEND;TZID=America/New_York:20231230T113000
DTSTAMP:20260425T064810
CREATED:20231019T221051Z
LAST-MODIFIED:20231019T221051Z
UID:4697-1703930400-1703935800@danceorangeville.com
SUMMARY:Contact Improv
DESCRIPTION:A dance where both / all people are following. Following what? The moving point of balance; momentum. And impulse – anyone can inject moments of leading. Can be slow or fast\, simple or athletic\, like gentle collaborative tai chi or like acro yoga but with a moving base and roles continuously fluidly switching. Duos\, trios\, and more. A somatic practice; a movement meditation. No partner required.
URL:https://danceorangeville.com/event/contact-improv-5/
ATTACH;FMTTYPE=image/jpeg:https://danceorangeville.com/wp-content/uploads/contact-improv-300x300-Mqo51g.tmp_.jpg
END:VEVENT
BEGIN:VEVENT
DTSTART;TZID=America/New_York:20231218T200000
DTEND;TZID=America/New_York:20231218T210000
DTSTAMP:20260425T064810
CREATED:20231019T221100Z
LAST-MODIFIED:20231020T014432Z
UID:4700-1702929600-1702933200@danceorangeville.com
SUMMARY:Creative Partnered Walking
DESCRIPTION:Taking inspiration from dances where people travel with a partner around a room\, but simplified\, this class grows our ability to walk together playfully – perhaps just in class\, or perhaps through a park\, down the lane\, at a parade\, and around a track.. Fun / beautiful music will play most of the time\, with no requirement of moving to the music.
URL:https://danceorangeville.com/event/creative-partnered-walking/
END:VEVENT
BEGIN:VEVENT
DTSTART;TZID=America/New_York:20231218T200000
DTEND;TZID=America/New_York:20231218T210000
DTSTAMP:20260425T064810
CREATED:20231019T221053Z
LAST-MODIFIED:20231019T221053Z
UID:4699-1702929600-1702933200@danceorangeville.com
SUMMARY:Country Two-Step
DESCRIPTION:Walking 2.0. Walking variations. Turning into and out of cuddle/wrap\, shadow\, skaters\, sweetheart\, hand-in-hand\, windmill & weave. Partnered dance; no partner required.
URL:https://danceorangeville.com/event/country-two-step-2/
END:VEVENT
BEGIN:VEVENT
DTSTART;TZID=America/Toronto:20231215T200000
DTEND;TZID=America/Toronto:20231215T210000
DTSTAMP:20260425T064810
CREATED:20231019T232150Z
LAST-MODIFIED:20231019T232628Z
UID:4718-1702670400-1702674000@danceorangeville.com
SUMMARY:Contact Improv (confirm*)
DESCRIPTION:A dance where both / all people are following. Following what? The moving point of balance; momentum. You’re also following your impulse\, which is to say anyone can inject moments of leading. Can be slow or fast\, simple or athletic. It can be like partner tai chi (but generally without any hint of combat)\, like partner gymnastics (but improvised)\, like partner yoga (but generally moving)\, like acro yoga (but with the base also moving\, and roles frequently organically switching / dissolving)\, like intimate tango (Argentine\, not ballroom)\, etc.  Duos\, trios\, and more. A somatic practice; a movement meditation. No partner required. \nI put together a one-minute video showing some of the possibilities.  … The video won’t embed in an Event post\, so see it at danceorangeville.com/contact-improv instead.\n \nIn the Dance Studio at ODSS high school.* Want to attend?  Let us know: contact.  \nWe hope to run contact improv events every month but other opportunities are competing for our time\, so let us know of your interest and we’ll try to make something work for everyone interested. \n\n#danceOrangeville #dance #orangeville #shelburneontario #townofmono #acroyoga #partneryoga #gymnastics #taichi #somatic #fun #consentculture #datenight #friends #meet #fitness #creativeworkout #movementmedicine
URL:https://danceorangeville.com/event/contact-improv-3-2/
LOCATION:ODSS\, 22 Faulkner Street\, Orangeville
ATTACH;FMTTYPE=image/jpeg:https://danceorangeville.com/wp-content/uploads/2023/02/contact-improv-collage-video-cover.jpg
ORGANIZER;CN="Jonathon Neville":MAILTO:danceorangeville@gmail.com
END:VEVENT
BEGIN:VEVENT
DTSTART;TZID=America/New_York:20231204T190000
DTEND;TZID=America/New_York:20231204T200000
DTSTAMP:20260425T064810
CREATED:20231019T221117Z
LAST-MODIFIED:20231020T014043Z
UID:4706-1701716400-1701720000@danceorangeville.com
SUMMARY:Waltz
DESCRIPTION:Is it elegant or scandalous? You decide! (In the 1800s it caused outrage: too much fun!)
URL:https://danceorangeville.com/event/waltz-3/
ATTACH;FMTTYPE=image/png:https://danceorangeville.com/wp-content/uploads/waltz-23-300x300-0egeYx.tmp_.png
END:VEVENT
END:VCALENDAR