BEGIN:VCALENDAR
VERSION:2.0
PRODID:-//Dance Orangeville - ECPv6.15.20//NONSGML v1.0//EN
CALSCALE:GREGORIAN
METHOD:PUBLISH
X-ORIGINAL-URL:https://danceorangeville.com
X-WR-CALDESC:Events for Dance Orangeville
REFRESH-INTERVAL;VALUE=DURATION:PT1H
X-Robots-Tag:noindex
X-PUBLISHED-TTL:PT1H
BEGIN:VTIMEZONE
TZID:America/Toronto
BEGIN:DAYLIGHT
TZOFFSETFROM:-0500
TZOFFSETTO:-0400
TZNAME:EDT
DTSTART:20220313T070000
END:DAYLIGHT
BEGIN:STANDARD
TZOFFSETFROM:-0400
TZOFFSETTO:-0500
TZNAME:EST
DTSTART:20221106T060000
END:STANDARD
BEGIN:DAYLIGHT
TZOFFSETFROM:-0500
TZOFFSETTO:-0400
TZNAME:EDT
DTSTART:20230312T070000
END:DAYLIGHT
BEGIN:STANDARD
TZOFFSETFROM:-0400
TZOFFSETTO:-0500
TZNAME:EST
DTSTART:20231105T060000
END:STANDARD
BEGIN:DAYLIGHT
TZOFFSETFROM:-0500
TZOFFSETTO:-0400
TZNAME:EDT
DTSTART:20240310T070000
END:DAYLIGHT
BEGIN:STANDARD
TZOFFSETFROM:-0400
TZOFFSETTO:-0500
TZNAME:EST
DTSTART:20241103T060000
END:STANDARD
END:VTIMEZONE
BEGIN:VTIMEZONE
TZID:America/New_York
BEGIN:DAYLIGHT
TZOFFSETFROM:-0500
TZOFFSETTO:-0400
TZNAME:EDT
DTSTART:20220313T070000
END:DAYLIGHT
BEGIN:STANDARD
TZOFFSETFROM:-0400
TZOFFSETTO:-0500
TZNAME:EST
DTSTART:20221106T060000
END:STANDARD
BEGIN:DAYLIGHT
TZOFFSETFROM:-0500
TZOFFSETTO:-0400
TZNAME:EDT
DTSTART:20230312T070000
END:DAYLIGHT
BEGIN:STANDARD
TZOFFSETFROM:-0400
TZOFFSETTO:-0500
TZNAME:EST
DTSTART:20231105T060000
END:STANDARD
BEGIN:DAYLIGHT
TZOFFSETFROM:-0500
TZOFFSETTO:-0400
TZNAME:EDT
DTSTART:20240310T070000
END:DAYLIGHT
BEGIN:STANDARD
TZOFFSETFROM:-0400
TZOFFSETTO:-0500
TZNAME:EST
DTSTART:20241103T060000
END:STANDARD
END:VTIMEZONE
BEGIN:VEVENT
DTSTART;TZID=America/Toronto:20230503T190000
DTEND;TZID=America/Toronto:20230503T200000
DTSTAMP:20260425T101618
CREATED:20221203T234842Z
LAST-MODIFIED:20230507T231008Z
UID:2593-1683140400-1683144000@danceorangeville.com
SUMMARY:Family Circus
DESCRIPTION:Physical Play for Parents & Kids age 5+. Rediscover childhood. Rolling\, spiraling\, bouncing\, playful dance variations of animal movement and character play – and singing / percussion games. Price is for 1 child and 1 or 2 adults. Additional children in same family half price.
URL:https://danceorangeville.com/event/family-circus/
LOCATION:ODSS\, 22 Faulkner Street\, Orangeville
ATTACH;FMTTYPE=image/png:https://danceorangeville.com/wp-content/uploads/2022/12/Family-Circus-Js-contact.png
END:VEVENT
BEGIN:VEVENT
DTSTART;TZID=America/Toronto:20230508T200000
DTEND;TZID=America/Toronto:20230508T210000
DTSTAMP:20260425T101618
CREATED:20221203T234940Z
LAST-MODIFIED:20230320T052635Z
UID:2618-1683576000-1683579600@danceorangeville.com
SUMMARY:Salsa Rueda
DESCRIPTION:Salsa meets Spirograph? In a rueda (Spanish for wheel)\, a group of dancers move along the spokes and circumference of an imaginary wheel\, changing partners and doing synchronized moves to the teacher’s calls. \n 
URL:https://danceorangeville.com/event/swing-rueda/
LOCATION:Westminster United\, 247 Broadway\, Orangeville
ATTACH;FMTTYPE=image/jpeg:https://danceorangeville.com/wp-content/uploads/2022/12/salsa-salsa-rueda-q79-s22.jpg
ORGANIZER;CN="Jonathon Neville":MAILTO:danceorangeville@gmail.com
END:VEVENT
BEGIN:VEVENT
DTSTART;TZID=America/Toronto:20230417T103000
DTEND;TZID=America/Toronto:20230417T123000
DTSTAMP:20260425T101618
CREATED:20221203T234923Z
LAST-MODIFIED:20230320T051205Z
UID:2614-1681727400-1681734600@danceorangeville.com
SUMMARY:Creative Partnered Walking
DESCRIPTION:Inspired by travelling partner dances\, made easy. Perhaps for just in class\, or thru a park\, down a street\, around a track\, in a parade? \nPoster says “Drop-ins welcome”\, but that’s not quite right.  Please let us know if you expect to join us. \nPoster’s dates should also be updated.
URL:https://danceorangeville.com/event/creative-partnered-walking-2/
LOCATION:Tony Rose\, 6 Northmen Way\, Orangeville
ATTACH;FMTTYPE=image/jpeg:https://danceorangeville.com/wp-content/uploads/2022/12/creative-partnered-walking-.jpg
END:VEVENT
BEGIN:VEVENT
DTSTART;TZID=America/Toronto:20230407T203000
DTEND;TZID=America/Toronto:20230407T220000
DTSTAMP:20260425T101618
CREATED:20230320T013044Z
LAST-MODIFIED:20230328T192325Z
UID:4421-1680899400-1680904800@danceorangeville.com
SUMMARY:Ecstatic Dance (confirm*)
DESCRIPTION:Free-form dance. Let movements arise. Breathe\, shake\, feel what you feel\, express what bubbles up. A chance to explore yourself thru dance in a supportive community.  We begin with a guided warmup growing connections within ourselves and between each other. Then surf a DJ’d wave\, slowly building to a peak or two before gradually coming to an elevated relaxation.  Some nights may include layers of live music. \n* Want to attend?  Let us know: contact. Want to host if we’re not available?  Let us know.\nWe hope to run Ecstatic Dance 1st Friday every month but other opportunities are competing for our time\, so let us know of your interest and we’ll try to make something work for everyone interested. \nOriginal venue has closed. We have a probably new venue but suggestions welcome. \n 
URL:https://danceorangeville.com/event/ecstatic-dance-2/
LOCATION:Venue to be announced\, Orangeville\, Ontario\, L9Y\, Canada
ATTACH;FMTTYPE=image/jpeg:https://danceorangeville.com/wp-content/uploads/2023/03/ecstatic-dance-orangeville-new-venue.jpg
ORGANIZER;CN="Jonathon Neville":MAILTO:danceorangeville@gmail.com
END:VEVENT
BEGIN:VEVENT
DTSTART;TZID=America/Toronto:20230421T190000
DTEND;TZID=America/Toronto:20230421T200000
DTSTAMP:20260425T101618
CREATED:20221203T234922Z
LAST-MODIFIED:20230328T163435Z
UID:2612-1682103600-1682107200@danceorangeville.com
SUMMARY:Social Ballroom
DESCRIPTION:Beginner classes in a variety of partner dance styles – ballroom\, latin\, salsa\, swing – focused on fun\, in a relaxed environment.  This could be an excellent introduction if you want to enter ballroom competitions\, but that is not the purpose of this course.  Private lessons also available.
URL:https://danceorangeville.com/event/social-ballroom/
LOCATION:Tony Rose\, 6 Northmen Way\, Orangeville
END:VEVENT
BEGIN:VEVENT
DTSTART;TZID=America/Toronto:20230420T200000
DTEND;TZID=America/Toronto:20230420T210000
DTSTAMP:20260425T101618
CREATED:20221203T234923Z
LAST-MODIFIED:20230320T084456Z
UID:2613-1682020800-1682024400@danceorangeville.com
SUMMARY:Freestyle Partner Dancing
DESCRIPTION:Ballroom not for you? Advance your dance without learning formal steps.
URL:https://danceorangeville.com/event/freestyle-partner-dancing/
LOCATION:Tony Rose\, 6 Northmen Way\, Orangeville
ATTACH;FMTTYPE=image/png:https://danceorangeville.com/wp-content/uploads/2022/12/freestyle-partner-dance-only-on-black.png
END:VEVENT
BEGIN:VEVENT
DTSTART;TZID=America/Toronto:20230503T200000
DTEND;TZID=America/Toronto:20230503T210000
DTSTAMP:20260425T101618
CREATED:20221203T234906Z
LAST-MODIFIED:20230320T131619Z
UID:2605-1683144000-1683147600@danceorangeville.com
SUMMARY:Line Dance
DESCRIPTION:Country + Latin + Soul line dances
URL:https://danceorangeville.com/event/line-dance/
LOCATION:ODSS\, 22 Faulkner Street\, Orangeville
ATTACH;FMTTYPE=image/jpeg:https://danceorangeville.com/wp-content/uploads/2022/12/line-dance-dance-orangeville-odss-q77-s50.jpg
END:VEVENT
BEGIN:VEVENT
DTSTART;TZID=America/Toronto:20230503T190000
DTEND;TZID=America/Toronto:20230503T200000
DTSTAMP:20260425T101618
CREATED:20221203T234842Z
LAST-MODIFIED:20230507T231008Z
UID:2593-1683140400-1683144000@danceorangeville.com
SUMMARY:Family Circus
DESCRIPTION:Physical Play for Parents & Kids age 5+. Rediscover childhood. Rolling\, spiraling\, bouncing\, playful dance variations of animal movement and character play – and singing / percussion games. Price is for 1 child and 1 or 2 adults. Additional children in same family half price.
URL:https://danceorangeville.com/event/family-circus/
LOCATION:ODSS\, 22 Faulkner Street\, Orangeville
ATTACH;FMTTYPE=image/png:https://danceorangeville.com/wp-content/uploads/2022/12/Family-Circus-Js-contact.png
END:VEVENT
BEGIN:VEVENT
DTSTART;TZID=America/Toronto:20230403T200000
DTEND;TZID=America/Toronto:20230403T210000
DTSTAMP:20260425T101618
CREATED:20221203T234938Z
LAST-MODIFIED:20230320T085336Z
UID:2616-1680552000-1680555600@danceorangeville.com
SUMMARY:Salsa
DESCRIPTION:Real salsa\, starting easy. Salsa can be over-simplified. We’ll start simple\, but grow towards the richness of real salsa. \n 
URL:https://danceorangeville.com/event/salsa/
LOCATION:Westminster United\, 247 Broadway\, Orangeville
ATTACH;FMTTYPE=image/jpeg:https://danceorangeville.com/wp-content/uploads/2022/12/salsa-salsa-rueda-q79-s22.jpg
ORGANIZER;CN="Jonathon Neville":MAILTO:danceorangeville@gmail.com
END:VEVENT
BEGIN:VEVENT
DTSTART;TZID=America/Toronto:20230417T103000
DTEND;TZID=America/Toronto:20230417T123000
DTSTAMP:20260425T101618
CREATED:20221203T234923Z
LAST-MODIFIED:20230320T051205Z
UID:2614-1681727400-1681734600@danceorangeville.com
SUMMARY:Creative Partnered Walking
DESCRIPTION:Inspired by travelling partner dances\, made easy. Perhaps for just in class\, or thru a park\, down a street\, around a track\, in a parade? \nPoster says “Drop-ins welcome”\, but that’s not quite right.  Please let us know if you expect to join us. \nPoster’s dates should also be updated.
URL:https://danceorangeville.com/event/creative-partnered-walking-2/
LOCATION:Tony Rose\, 6 Northmen Way\, Orangeville
ATTACH;FMTTYPE=image/jpeg:https://danceorangeville.com/wp-content/uploads/2022/12/creative-partnered-walking-.jpg
END:VEVENT
BEGIN:VEVENT
DTSTART;TZID=America/Toronto:20230428T203000
DTEND;TZID=America/Toronto:20230428T220000
DTSTAMP:20260425T101618
CREATED:20230328T171824Z
LAST-MODIFIED:20230703T024012Z
UID:4468-1682713800-1682719200@danceorangeville.com
SUMMARY:Contact Improv (confirm*)
DESCRIPTION:A dance where both / all people are following. Following what? The moving point of balance; momentum. You’re also following your impulse\, which is to say anyone can inject moments of leading. Can be slow or fast\, simple or athletic. It can be like partner tai chi (but generally without any hint of combat)\, like partner gymnastics (but improvised)\, like partner yoga (but generally moving)\, like acro yoga (but with the base also moving\, and roles frequently organically switching / dissolving)\, like intimate tango (Argentine\, not ballroom)\, etc.  Duos\, trios\, and more. A somatic practice; a movement meditation. No partner required. \nI put together a one-minute video showing some of the possibilities.  … The video won’t embed in an Event post\, so see it at danceorangeville.com/contact-improv instead.\n \nKala Yoga closed end of March.  We have a probable new venue but are open to suggestions. \n* Want to attend?  Let us know: contact. Want to host if we’re not available?  Let us know.\nWe hope to run events the 4th Friday every month but other opportunities are competing for our time\, so let us know of your interest and we’ll try to make something work for everyone interested. \n\n#danceOrangeville #dance #orangeville #shelburneontario #townofmono #acroyoga #partneryoga #gymnastics #taichi #somatic #fun #consentculture #datenight #friends #meet #fitness #creativeworkout #movementmedicine
URL:https://danceorangeville.com/event/contact-improv-3/
LOCATION:Venue to be announced\, Orangeville\, Ontario\, L9Y\, Canada
ATTACH;FMTTYPE=image/jpeg:https://danceorangeville.com/wp-content/uploads/2023/02/contact-improv-collage-video-cover.jpg
ORGANIZER;CN="Jonathon Neville":MAILTO:danceorangeville@gmail.com
END:VEVENT
BEGIN:VEVENT
DTSTART;TZID=America/Toronto:20230421T190000
DTEND;TZID=America/Toronto:20230421T200000
DTSTAMP:20260425T101618
CREATED:20221203T234922Z
LAST-MODIFIED:20230328T163435Z
UID:2612-1682103600-1682107200@danceorangeville.com
SUMMARY:Social Ballroom
DESCRIPTION:Beginner classes in a variety of partner dance styles – ballroom\, latin\, salsa\, swing – focused on fun\, in a relaxed environment.  This could be an excellent introduction if you want to enter ballroom competitions\, but that is not the purpose of this course.  Private lessons also available.
URL:https://danceorangeville.com/event/social-ballroom/
LOCATION:Tony Rose\, 6 Northmen Way\, Orangeville
END:VEVENT
BEGIN:VEVENT
DTSTART;TZID=America/Toronto:20230420T200000
DTEND;TZID=America/Toronto:20230420T210000
DTSTAMP:20260425T101618
CREATED:20221203T234923Z
LAST-MODIFIED:20230320T084456Z
UID:2613-1682020800-1682024400@danceorangeville.com
SUMMARY:Freestyle Partner Dancing
DESCRIPTION:Ballroom not for you? Advance your dance without learning formal steps.
URL:https://danceorangeville.com/event/freestyle-partner-dancing/
LOCATION:Tony Rose\, 6 Northmen Way\, Orangeville
ATTACH;FMTTYPE=image/png:https://danceorangeville.com/wp-content/uploads/2022/12/freestyle-partner-dance-only-on-black.png
END:VEVENT
BEGIN:VEVENT
DTSTART;TZID=America/New_York:20230405T200000
DTEND;TZID=America/New_York:20230405T210000
DTSTAMP:20260425T101618
CREATED:20230103T164855Z
LAST-MODIFIED:20230320T134426Z
UID:2501-1680724800-1680728400@danceorangeville.com
SUMMARY:Blues Dancing
DESCRIPTION:Life gives you the blues\, so let the blues give you life! Dance to the music – from ballrooming blues to dirty dancing. No partner required.
URL:https://danceorangeville.com/event/blues/
LOCATION:ODSS\, 22 Faulkner Street\, Orangeville
ATTACH;FMTTYPE=image/jpeg:https://danceorangeville.com/wp-content/uploads/2022/12/blues-dance-75q-60s.jpg
END:VEVENT
BEGIN:VEVENT
DTSTART;TZID=America/Toronto:20230405T190000
DTEND;TZID=America/Toronto:20230405T200000
DTSTAMP:20260425T101618
CREATED:20221203T234841Z
LAST-MODIFIED:20230320T133746Z
UID:2592-1680721200-1680724800@danceorangeville.com
SUMMARY:Country Two-Step
DESCRIPTION:Walking 2.0. Walking variations. Turning into and out of cuddle/wrap\, shadow\, skaters\, sweetheart\, hand-in-hand\, windmill & weave. Partnered dance; no partner required. \n \n 
URL:https://danceorangeville.com/event/country-two-step/
LOCATION:ODSS\, 22 Faulkner Street\, Orangeville
ATTACH;FMTTYPE=image/jpeg:https://danceorangeville.com/wp-content/uploads/2022/12/Country-Two-Step.jpg
END:VEVENT
BEGIN:VEVENT
DTSTART;TZID=America/Toronto:20230403T200000
DTEND;TZID=America/Toronto:20230403T210000
DTSTAMP:20260425T101618
CREATED:20221203T234938Z
LAST-MODIFIED:20230320T085336Z
UID:2616-1680552000-1680555600@danceorangeville.com
SUMMARY:Salsa
DESCRIPTION:Real salsa\, starting easy. Salsa can be over-simplified. We’ll start simple\, but grow towards the richness of real salsa. \n 
URL:https://danceorangeville.com/event/salsa/
LOCATION:Westminster United\, 247 Broadway\, Orangeville
ATTACH;FMTTYPE=image/jpeg:https://danceorangeville.com/wp-content/uploads/2022/12/salsa-salsa-rueda-q79-s22.jpg
ORGANIZER;CN="Jonathon Neville":MAILTO:danceorangeville@gmail.com
END:VEVENT
BEGIN:VEVENT
DTSTART;TZID=America/Toronto:20230417T103000
DTEND;TZID=America/Toronto:20230417T123000
DTSTAMP:20260425T101618
CREATED:20221203T234923Z
LAST-MODIFIED:20230320T051205Z
UID:2614-1681727400-1681734600@danceorangeville.com
SUMMARY:Creative Partnered Walking
DESCRIPTION:Inspired by travelling partner dances\, made easy. Perhaps for just in class\, or thru a park\, down a street\, around a track\, in a parade? \nPoster says “Drop-ins welcome”\, but that’s not quite right.  Please let us know if you expect to join us. \nPoster’s dates should also be updated.
URL:https://danceorangeville.com/event/creative-partnered-walking-2/
LOCATION:Tony Rose\, 6 Northmen Way\, Orangeville
ATTACH;FMTTYPE=image/jpeg:https://danceorangeville.com/wp-content/uploads/2022/12/creative-partnered-walking-.jpg
END:VEVENT
BEGIN:VEVENT
DTSTART;TZID=America/Toronto:20230421T190000
DTEND;TZID=America/Toronto:20230421T200000
DTSTAMP:20260425T101618
CREATED:20221203T234922Z
LAST-MODIFIED:20230328T163435Z
UID:2612-1682103600-1682107200@danceorangeville.com
SUMMARY:Social Ballroom
DESCRIPTION:Beginner classes in a variety of partner dance styles – ballroom\, latin\, salsa\, swing – focused on fun\, in a relaxed environment.  This could be an excellent introduction if you want to enter ballroom competitions\, but that is not the purpose of this course.  Private lessons also available.
URL:https://danceorangeville.com/event/social-ballroom/
LOCATION:Tony Rose\, 6 Northmen Way\, Orangeville
END:VEVENT
BEGIN:VEVENT
DTSTART;TZID=America/Toronto:20230420T200000
DTEND;TZID=America/Toronto:20230420T210000
DTSTAMP:20260425T101618
CREATED:20221203T234923Z
LAST-MODIFIED:20230320T084456Z
UID:2613-1682020800-1682024400@danceorangeville.com
SUMMARY:Freestyle Partner Dancing
DESCRIPTION:Ballroom not for you? Advance your dance without learning formal steps.
URL:https://danceorangeville.com/event/freestyle-partner-dancing/
LOCATION:Tony Rose\, 6 Northmen Way\, Orangeville
ATTACH;FMTTYPE=image/png:https://danceorangeville.com/wp-content/uploads/2022/12/freestyle-partner-dance-only-on-black.png
END:VEVENT
BEGIN:VEVENT
DTSTART;TZID=America/Toronto:20230419T190000
DTEND;TZID=America/Toronto:20230419T200000
DTSTAMP:20260425T101618
CREATED:20230404T133407Z
LAST-MODIFIED:20230404T133510Z
UID:4492-1681930800-1681934400@danceorangeville.com
SUMMARY:Guest Speaker + Dance Teacher at Canadian Federation of University Women
DESCRIPTION:I was invited to speak and teach for the Canadian Federation of University Women.  At first I thought it was a mistake due to an assumption that a dance company owner must be a woman.  It wasn’t a mistake – they knew who I was – and it actually is appropriate:\nMy grandparents did not believe in education for women\, but my mom eventually put herself through university and got a PhD\, with me born mid-PhD.  When I became her sole caregiver (for 10 years)\, we created a play about our family – using our home as a case study for global transformation – moving from conflict to collective creation.  (4½ stars – Edmonton Journal\, 3 full episodes on CBC TV.)  \nDuring that project I began studying dance more seriously.  I later created many dance productions\, including Graves-a-Poppin’ (performed at the Canadian Swing Championships; “everyone agreed really stole the show” – History of Swing official summary)\, Neurogenesis (performed at Advances in Neurorehabilitation + other conferences)\, and Sexpectations (improv comedy / real live drama).  The partnering skills and embodied playfulness from dance changed my life\, and seem to me essential for a healthy culture.\nWhen I moved to Orangeville\, lamenting the lack of dance opportunities for adults – especially social dancing – I created Dance Orangeville\, where I teach many styles of dance.  (It’s like traveling around the world – with a time machine.) \nFor CFUW\, I will lead a line dance and an interactive dance.  Get a ‘taste’ of why I love both roles in lead-follow partner dances\, and try a type of partner dance with no roles. \nAt “The Centre”\, 375 Hansen Blvd\, Orangeville.
URL:https://danceorangeville.com/event/guest-speaker-dance-teacher-at-canadian-federation-of-university-women/
END:VEVENT
BEGIN:VEVENT
DTSTART;TZID=America/Toronto:20230403T200000
DTEND;TZID=America/Toronto:20230403T210000
DTSTAMP:20260425T101618
CREATED:20221203T234938Z
LAST-MODIFIED:20230320T085336Z
UID:2616-1680552000-1680555600@danceorangeville.com
SUMMARY:Salsa
DESCRIPTION:Real salsa\, starting easy. Salsa can be over-simplified. We’ll start simple\, but grow towards the richness of real salsa. \n 
URL:https://danceorangeville.com/event/salsa/
LOCATION:Westminster United\, 247 Broadway\, Orangeville
ATTACH;FMTTYPE=image/jpeg:https://danceorangeville.com/wp-content/uploads/2022/12/salsa-salsa-rueda-q79-s22.jpg
ORGANIZER;CN="Jonathon Neville":MAILTO:danceorangeville@gmail.com
END:VEVENT
BEGIN:VEVENT
DTSTART;TZID=America/Toronto:20230417T103000
DTEND;TZID=America/Toronto:20230417T123000
DTSTAMP:20260425T101618
CREATED:20221203T234923Z
LAST-MODIFIED:20230320T051205Z
UID:2614-1681727400-1681734600@danceorangeville.com
SUMMARY:Creative Partnered Walking
DESCRIPTION:Inspired by travelling partner dances\, made easy. Perhaps for just in class\, or thru a park\, down a street\, around a track\, in a parade? \nPoster says “Drop-ins welcome”\, but that’s not quite right.  Please let us know if you expect to join us. \nPoster’s dates should also be updated.
URL:https://danceorangeville.com/event/creative-partnered-walking-2/
LOCATION:Tony Rose\, 6 Northmen Way\, Orangeville
ATTACH;FMTTYPE=image/jpeg:https://danceorangeville.com/wp-content/uploads/2022/12/creative-partnered-walking-.jpg
END:VEVENT
BEGIN:VEVENT
DTSTART;TZID=America/New_York:20230405T200000
DTEND;TZID=America/New_York:20230405T210000
DTSTAMP:20260425T101618
CREATED:20230103T164855Z
LAST-MODIFIED:20230320T134426Z
UID:2501-1680724800-1680728400@danceorangeville.com
SUMMARY:Blues Dancing
DESCRIPTION:Life gives you the blues\, so let the blues give you life! Dance to the music – from ballrooming blues to dirty dancing. No partner required.
URL:https://danceorangeville.com/event/blues/
LOCATION:ODSS\, 22 Faulkner Street\, Orangeville
ATTACH;FMTTYPE=image/jpeg:https://danceorangeville.com/wp-content/uploads/2022/12/blues-dance-75q-60s.jpg
END:VEVENT
BEGIN:VEVENT
DTSTART;TZID=America/Toronto:20230405T190000
DTEND;TZID=America/Toronto:20230405T200000
DTSTAMP:20260425T101618
CREATED:20221203T234841Z
LAST-MODIFIED:20230320T133746Z
UID:2592-1680721200-1680724800@danceorangeville.com
SUMMARY:Country Two-Step
DESCRIPTION:Walking 2.0. Walking variations. Turning into and out of cuddle/wrap\, shadow\, skaters\, sweetheart\, hand-in-hand\, windmill & weave. Partnered dance; no partner required. \n \n 
URL:https://danceorangeville.com/event/country-two-step/
LOCATION:ODSS\, 22 Faulkner Street\, Orangeville
ATTACH;FMTTYPE=image/jpeg:https://danceorangeville.com/wp-content/uploads/2022/12/Country-Two-Step.jpg
END:VEVENT
BEGIN:VEVENT
DTSTART;TZID=America/Toronto:20230403T200000
DTEND;TZID=America/Toronto:20230403T210000
DTSTAMP:20260425T101618
CREATED:20221203T234938Z
LAST-MODIFIED:20230320T085336Z
UID:2616-1680552000-1680555600@danceorangeville.com
SUMMARY:Salsa
DESCRIPTION:Real salsa\, starting easy. Salsa can be over-simplified. We’ll start simple\, but grow towards the richness of real salsa. \n 
URL:https://danceorangeville.com/event/salsa/
LOCATION:Westminster United\, 247 Broadway\, Orangeville
ATTACH;FMTTYPE=image/jpeg:https://danceorangeville.com/wp-content/uploads/2022/12/salsa-salsa-rueda-q79-s22.jpg
ORGANIZER;CN="Jonathon Neville":MAILTO:danceorangeville@gmail.com
END:VEVENT
BEGIN:VEVENT
DTSTART;TZID=America/Toronto:20230408T200000
DTEND;TZID=America/Toronto:20230408T213000
DTSTAMP:20260425T101618
CREATED:20230328T165337Z
LAST-MODIFIED:20230703T023834Z
UID:4464-1680984000-1680989400@danceorangeville.com
SUMMARY:Follow Your Bliss – All Styles Dance Night (confirm*)
DESCRIPTION:To a range of musical styles chosen by you\, practice official moves or experiment / play.\nAll welcome. Solo / partners / group.\nChange partners or stay with one. Do what you want.\n2nd Saturday every* month. \n* Want to attend?  Let us know: contact. Want to host if we’re not available?  Let us know.\nWe hope to run events 2nd Saturday every month but other opportunities are competing for our time\, so let us know of your interest and we’ll try to make something work for everyone interested.
URL:https://danceorangeville.com/event/follow-your-bliss-dance-night-out-variety-pack-2/
ATTACH;FMTTYPE=image/jpeg:https://danceorangeville.com/wp-content/uploads/2022/12/Follow-Your-Bliss-q80-1.jpg
END:VEVENT
BEGIN:VEVENT
DTSTART;TZID=America/Toronto:20230407T203000
DTEND;TZID=America/Toronto:20230407T220000
DTSTAMP:20260425T101618
CREATED:20230320T013044Z
LAST-MODIFIED:20230328T192325Z
UID:4421-1680899400-1680904800@danceorangeville.com
SUMMARY:Ecstatic Dance (confirm*)
DESCRIPTION:Free-form dance. Let movements arise. Breathe\, shake\, feel what you feel\, express what bubbles up. A chance to explore yourself thru dance in a supportive community.  We begin with a guided warmup growing connections within ourselves and between each other. Then surf a DJ’d wave\, slowly building to a peak or two before gradually coming to an elevated relaxation.  Some nights may include layers of live music. \n* Want to attend?  Let us know: contact. Want to host if we’re not available?  Let us know.\nWe hope to run Ecstatic Dance 1st Friday every month but other opportunities are competing for our time\, so let us know of your interest and we’ll try to make something work for everyone interested. \nOriginal venue has closed. We have a probably new venue but suggestions welcome. \n 
URL:https://danceorangeville.com/event/ecstatic-dance-2/
LOCATION:Venue to be announced\, Orangeville\, Ontario\, L9Y\, Canada
ATTACH;FMTTYPE=image/jpeg:https://danceorangeville.com/wp-content/uploads/2023/03/ecstatic-dance-orangeville-new-venue.jpg
ORGANIZER;CN="Jonathon Neville":MAILTO:danceorangeville@gmail.com
END:VEVENT
BEGIN:VEVENT
DTSTART;TZID=America/New_York:20230405T200000
DTEND;TZID=America/New_York:20230405T210000
DTSTAMP:20260425T101618
CREATED:20230103T164855Z
LAST-MODIFIED:20230320T134426Z
UID:2501-1680724800-1680728400@danceorangeville.com
SUMMARY:Blues Dancing
DESCRIPTION:Life gives you the blues\, so let the blues give you life! Dance to the music – from ballrooming blues to dirty dancing. No partner required.
URL:https://danceorangeville.com/event/blues/
LOCATION:ODSS\, 22 Faulkner Street\, Orangeville
ATTACH;FMTTYPE=image/jpeg:https://danceorangeville.com/wp-content/uploads/2022/12/blues-dance-75q-60s.jpg
END:VEVENT
BEGIN:VEVENT
DTSTART;TZID=America/Toronto:20230405T190000
DTEND;TZID=America/Toronto:20230405T200000
DTSTAMP:20260425T101618
CREATED:20221203T234841Z
LAST-MODIFIED:20230320T133746Z
UID:2592-1680721200-1680724800@danceorangeville.com
SUMMARY:Country Two-Step
DESCRIPTION:Walking 2.0. Walking variations. Turning into and out of cuddle/wrap\, shadow\, skaters\, sweetheart\, hand-in-hand\, windmill & weave. Partnered dance; no partner required. \n \n 
URL:https://danceorangeville.com/event/country-two-step/
LOCATION:ODSS\, 22 Faulkner Street\, Orangeville
ATTACH;FMTTYPE=image/jpeg:https://danceorangeville.com/wp-content/uploads/2022/12/Country-Two-Step.jpg
END:VEVENT
BEGIN:VEVENT
DTSTART;TZID=America/Toronto:20230403T200000
DTEND;TZID=America/Toronto:20230403T210000
DTSTAMP:20260425T101618
CREATED:20221203T234938Z
LAST-MODIFIED:20230320T085336Z
UID:2616-1680552000-1680555600@danceorangeville.com
SUMMARY:Salsa
DESCRIPTION:Real salsa\, starting easy. Salsa can be over-simplified. We’ll start simple\, but grow towards the richness of real salsa. \n 
URL:https://danceorangeville.com/event/salsa/
LOCATION:Westminster United\, 247 Broadway\, Orangeville
ATTACH;FMTTYPE=image/jpeg:https://danceorangeville.com/wp-content/uploads/2022/12/salsa-salsa-rueda-q79-s22.jpg
ORGANIZER;CN="Jonathon Neville":MAILTO:danceorangeville@gmail.com
END:VEVENT
END:VCALENDAR