BEGIN:VCALENDAR
VERSION:2.0
PRODID:-//Dance Orangeville - ECPv6.15.20//NONSGML v1.0//EN
CALSCALE:GREGORIAN
METHOD:PUBLISH
X-WR-CALNAME:Dance Orangeville
X-ORIGINAL-URL:https://danceorangeville.com
X-WR-CALDESC:Events for Dance Orangeville
REFRESH-INTERVAL;VALUE=DURATION:PT1H
X-Robots-Tag:noindex
X-PUBLISHED-TTL:PT1H
BEGIN:VTIMEZONE
TZID:America/Toronto
BEGIN:DAYLIGHT
TZOFFSETFROM:-0500
TZOFFSETTO:-0400
TZNAME:EDT
DTSTART:20210314T070000
END:DAYLIGHT
BEGIN:STANDARD
TZOFFSETFROM:-0400
TZOFFSETTO:-0500
TZNAME:EST
DTSTART:20211107T060000
END:STANDARD
BEGIN:DAYLIGHT
TZOFFSETFROM:-0500
TZOFFSETTO:-0400
TZNAME:EDT
DTSTART:20220313T070000
END:DAYLIGHT
BEGIN:STANDARD
TZOFFSETFROM:-0400
TZOFFSETTO:-0500
TZNAME:EST
DTSTART:20221106T060000
END:STANDARD
BEGIN:DAYLIGHT
TZOFFSETFROM:-0500
TZOFFSETTO:-0400
TZNAME:EDT
DTSTART:20230312T070000
END:DAYLIGHT
BEGIN:STANDARD
TZOFFSETFROM:-0400
TZOFFSETTO:-0500
TZNAME:EST
DTSTART:20231105T060000
END:STANDARD
BEGIN:DAYLIGHT
TZOFFSETFROM:-0500
TZOFFSETTO:-0400
TZNAME:EDT
DTSTART:20240310T070000
END:DAYLIGHT
BEGIN:STANDARD
TZOFFSETFROM:-0400
TZOFFSETTO:-0500
TZNAME:EST
DTSTART:20241103T060000
END:STANDARD
END:VTIMEZONE
BEGIN:VTIMEZONE
TZID:America/New_York
BEGIN:DAYLIGHT
TZOFFSETFROM:-0500
TZOFFSETTO:-0400
TZNAME:EDT
DTSTART:20220313T070000
END:DAYLIGHT
BEGIN:STANDARD
TZOFFSETFROM:-0400
TZOFFSETTO:-0500
TZNAME:EST
DTSTART:20221106T060000
END:STANDARD
BEGIN:DAYLIGHT
TZOFFSETFROM:-0500
TZOFFSETTO:-0400
TZNAME:EDT
DTSTART:20230312T070000
END:DAYLIGHT
BEGIN:STANDARD
TZOFFSETFROM:-0400
TZOFFSETTO:-0500
TZNAME:EST
DTSTART:20231105T060000
END:STANDARD
BEGIN:DAYLIGHT
TZOFFSETFROM:-0500
TZOFFSETTO:-0400
TZNAME:EDT
DTSTART:20240310T070000
END:DAYLIGHT
BEGIN:STANDARD
TZOFFSETFROM:-0400
TZOFFSETTO:-0500
TZNAME:EST
DTSTART:20241103T060000
END:STANDARD
END:VTIMEZONE
BEGIN:VEVENT
DTSTART;TZID=America/Toronto:20230211T190000
DTEND;TZID=America/Toronto:20230211T213000
DTSTAMP:20260425T115011
CREATED:20221204T035923Z
LAST-MODIFIED:20230210T161421Z
UID:2696-1676142000-1676151000@danceorangeville.com
SUMMARY:Valentine's Dance
DESCRIPTION:We don’t expect it to sell out – we held back on marketing because we aim to have plenty of room for dancing – but just in case\, we recommend either paying in advance or letting us know you’re coming so we can reserve tickets for you. All ages. All styles. All welcome.\nCome solo\, with a partner\, friends\, or family.\n$10.  Kids under 12 free.\n\n7:00-9:30 – Dance / socialize \n7:15-7:45 – Swing dance lesson \n\nFriends outside Mono welcome.Prizes from Schoolhouse Country Gardens and Windrush Estate Winery!\nThanks to the Town of Mono and iLearn Home Childcare Agency. \n\n\n\nWant to get more involved? Let us know. Profits donated to future community events.  Have an idea?  Ask! \n\n\n\nTickets\n\n\n\nTo buy tickets in advance\, you can pay by: \n\n\n\n\ne-transfer or Paypal to danceorangeville@gmail.com\, or\n\n\n\ncredit card: https://buy.stripe.com/00g5oa7Er2wsdtmeUU(Stripe is one of the top payment processors in North America.  You could instead get tickets thru allevents.in\, but they also use Stripe.)\n\n\n\n\nTo pay at the door\, cash is best.  Reserve your tickets by sending a message (see top bar for email / phone / social) or by completing this form: \n\n\n\n← Back Thank you for your response. ✨\n\n\n					\n						\n							\n							\n						\n						\n						\n						\n						\n							\n								\n									\n										\n										\n									\n									\n										\n										\n									\n								\n							\n						\n						\n							\n								\n									\n									\n										\n									\n									\n									\n								\n							\n						\n					\n				\n\n\n\nName(required)\n\n \n			\n				\n					\n						\n						\n						\n					\n				\n				\n			 \n	\n\n\nAddress for reply   (email / social media / phone) (required)\n\n \n			\n				\n					\n						\n						\n						\n					\n				\n				\n			 \n	\n\n\nMessage\n\n \n			\n				\n					\n						\n						\n						\n					\n				\n				\n			\n	\n	\n\n				\n					\n				\n						Submit		\n		\n		\n	 \nΔ
URL:https://danceorangeville.com/event/valentines-dance/
LOCATION:Mono Community Centre\, 754483 Mono Centre Rd\, Orangeville\, Ontario\, L9W 5W9\, Canada
ATTACH;FMTTYPE=image/jpeg:https://danceorangeville.com/wp-content/uploads/2022/12/valentines-2023-Mono-Michelles-Moon-fit-to-facebook-1200-x-628-ask.jpg
ORGANIZER;CN="Jonathon Neville":MAILTO:danceorangeville@gmail.com
END:VEVENT
BEGIN:VEVENT
DTSTART;TZID=America/Toronto:20230208T200000
DTEND;TZID=America/Toronto:20230208T210000
DTSTAMP:20260425T115011
CREATED:20221203T234850Z
LAST-MODIFIED:20230124T193631Z
UID:2597-1675886400-1675890000@danceorangeville.com
SUMMARY:Romance Dance
DESCRIPTION:A gliding dance perfect for love songs – simple yet sophisticated – where the sky’s the limit. Versatile skills for all music. No partner required.
URL:https://danceorangeville.com/event/romance-dance/
LOCATION:ODSS\, 22 Faulkner Street\, Orangeville
ATTACH;FMTTYPE=image/jpeg:https://danceorangeville.com/wp-content/uploads/2022/12/valentines-kiss-Silhouette-Of-Loving-Couple-in-Red-Heart-man-And-Woman-Kissing-vector-Illustration-iStock-by-Natalypaint-903039846-612x612-1.jpg
END:VEVENT
BEGIN:VEVENT
DTSTART;TZID=America/Toronto:20230208T190000
DTEND;TZID=America/Toronto:20230208T200000
DTSTAMP:20260425T115011
CREATED:20230123T023927Z
LAST-MODIFIED:20230124T171334Z
UID:3811-1675882800-1675886400@danceorangeville.com
SUMMARY:Salsa
DESCRIPTION:Real salsa – starting easy. Salsa can be over-simplified. We’ll start simple\, but grow towards the richness of real salsa.
URL:https://danceorangeville.com/event/salsa-2/
LOCATION:ODSS\, 22 Faulkner Street\, Orangeville
ATTACH;FMTTYPE=image/jpeg:https://danceorangeville.com/wp-content/uploads/2023/01/salsa-odss-wide-logo-left-22size-79q.jpg
END:VEVENT
BEGIN:VEVENT
DTSTART;TZID=America/Toronto:20230206T200000
DTEND;TZID=America/Toronto:20230206T210000
DTSTAMP:20260425T115011
CREATED:20230114T210934Z
LAST-MODIFIED:20230114T211349Z
UID:3735-1675713600-1675717200@danceorangeville.com
SUMMARY:Swing
DESCRIPTION:$10. Partner not required. Each class learn a sequence you can loop / vary for a whole song.\nVideo each class summary so you can review any time.\nPractice at social dance events like “Follow Your Bliss”.\nTo register\, send a message / comment in advance.\n \n#danceOrangeville #orangeville #dance #partnerdance #allages #adultsdance #adults #jazz #orangevillebluesandjazzfestival
URL:https://danceorangeville.com/event/swing-4/
LOCATION:Westminster United\, 247 Broadway\, Orangeville
ATTACH;FMTTYPE=image/jpeg:https://danceorangeville.com/wp-content/uploads/2022/12/324465283_580334003915179_3979055476197448759_n.jpg
ORGANIZER;CN="Jonathon Neville":MAILTO:danceorangeville@gmail.com
END:VEVENT
BEGIN:VEVENT
DTSTART;TZID=America/Toronto:20230106T203000
DTEND;TZID=America/Toronto:20230106T220000
DTSTAMP:20260425T115011
CREATED:20221203T234909Z
LAST-MODIFIED:20221204T000756Z
UID:2608-1673037000-1673042400@danceorangeville.com
SUMMARY:Ecstatic Dance
DESCRIPTION:Free-form dance. Let movements arise. Breathe\, shake\, feel what you feel\, express what bubbles up. A chance to explore yourself thru dance in a supportive community.We begin with a guided warmup growing connections within ourselves and between each other. Then surf a DJ’d wave\, slowly building to a peak or two before gradually coming to an elevated relaxation.\nSome nights may include layers of live music.
URL:https://danceorangeville.com/event/ecstatic-dance/
LOCATION:Private: Kala Yoga\, 229 Broadway\, Orangeville
ATTACH;FMTTYPE=image/jpeg:https://danceorangeville.com/wp-content/uploads/2022/11/ecstatic-dance-orangeville-92q.jpg
ORGANIZER;CN="Jonathon Neville":MAILTO:danceorangeville@gmail.com
END:VEVENT
BEGIN:VEVENT
DTSTART;TZID=America/Toronto:20230116T200000
DTEND;TZID=America/Toronto:20230116T210000
DTSTAMP:20260425T115011
CREATED:20221203T234939Z
LAST-MODIFIED:20230124T193016Z
UID:2617-1673899200-1673902800@danceorangeville.com
SUMMARY:Tango
DESCRIPTION:Argentine Tango – the natural\, authentic\, emotional\, social tango – and a bit of the ballroom version. No rapid head movements; no feigned (faked) expressions of emotion. Each class learn a sequence you can repeat and vary for a whole song\, while growing the ability to improvise. \n 
URL:https://danceorangeville.com/event/swing-3/
LOCATION:Westminster United\, 247 Broadway\, Orangeville
ATTACH;FMTTYPE=image/jpeg:https://danceorangeville.com/wp-content/uploads/2022/12/tango-westminster-2023-jan.jpg
ORGANIZER;CN="Jonathon Neville":MAILTO:danceorangeville@gmail.com
END:VEVENT
BEGIN:VEVENT
DTSTART;TZID=America/New_York:20230111T190000
DTEND;TZID=America/New_York:20230111T200000
DTSTAMP:20260425T115011
CREATED:20221203T164836Z
LAST-MODIFIED:20221203T190416Z
UID:2494-1673463600-1673467200@danceorangeville.com
SUMMARY:Swing
DESCRIPTION:You can’t dance swing without smiling. Learn to dance with snazzy syncopations\, spontaneity and serendipity. Beginner? Advanced? This class works well for all. No partner required.
URL:https://danceorangeville.com/event/swing/
LOCATION:ODSS\, 22 Faulkner Street\, Orangeville
END:VEVENT
BEGIN:VEVENT
DTSTART;TZID=America/Toronto:20230116T200000
DTEND;TZID=America/Toronto:20230116T210000
DTSTAMP:20260425T115011
CREATED:20221203T234939Z
LAST-MODIFIED:20230124T193016Z
UID:2617-1673899200-1673902800@danceorangeville.com
SUMMARY:Tango
DESCRIPTION:Argentine Tango – the natural\, authentic\, emotional\, social tango – and a bit of the ballroom version. No rapid head movements; no feigned (faked) expressions of emotion. Each class learn a sequence you can repeat and vary for a whole song\, while growing the ability to improvise. \n 
URL:https://danceorangeville.com/event/swing-3/
LOCATION:Westminster United\, 247 Broadway\, Orangeville
ATTACH;FMTTYPE=image/jpeg:https://danceorangeville.com/wp-content/uploads/2022/12/tango-westminster-2023-jan.jpg
ORGANIZER;CN="Jonathon Neville":MAILTO:danceorangeville@gmail.com
END:VEVENT
BEGIN:VEVENT
DTSTART;TZID=America/New_York:20230111T190000
DTEND;TZID=America/New_York:20230111T200000
DTSTAMP:20260425T115011
CREATED:20221203T164836Z
LAST-MODIFIED:20221203T190416Z
UID:2494-1673463600-1673467200@danceorangeville.com
SUMMARY:Swing
DESCRIPTION:You can’t dance swing without smiling. Learn to dance with snazzy syncopations\, spontaneity and serendipity. Beginner? Advanced? This class works well for all. No partner required.
URL:https://danceorangeville.com/event/swing/
LOCATION:ODSS\, 22 Faulkner Street\, Orangeville
END:VEVENT
BEGIN:VEVENT
DTSTART;TZID=America/Toronto:20230116T200000
DTEND;TZID=America/Toronto:20230116T210000
DTSTAMP:20260425T115011
CREATED:20221203T234939Z
LAST-MODIFIED:20230124T193016Z
UID:2617-1673899200-1673902800@danceorangeville.com
SUMMARY:Tango
DESCRIPTION:Argentine Tango – the natural\, authentic\, emotional\, social tango – and a bit of the ballroom version. No rapid head movements; no feigned (faked) expressions of emotion. Each class learn a sequence you can repeat and vary for a whole song\, while growing the ability to improvise. \n 
URL:https://danceorangeville.com/event/swing-3/
LOCATION:Westminster United\, 247 Broadway\, Orangeville
ATTACH;FMTTYPE=image/jpeg:https://danceorangeville.com/wp-content/uploads/2022/12/tango-westminster-2023-jan.jpg
ORGANIZER;CN="Jonathon Neville":MAILTO:danceorangeville@gmail.com
END:VEVENT
BEGIN:VEVENT
DTSTART;TZID=America/New_York:20230111T190000
DTEND;TZID=America/New_York:20230111T200000
DTSTAMP:20260425T115011
CREATED:20221203T164836Z
LAST-MODIFIED:20221203T190416Z
UID:2494-1673463600-1673467200@danceorangeville.com
SUMMARY:Swing
DESCRIPTION:You can’t dance swing without smiling. Learn to dance with snazzy syncopations\, spontaneity and serendipity. Beginner? Advanced? This class works well for all. No partner required.
URL:https://danceorangeville.com/event/swing/
LOCATION:ODSS\, 22 Faulkner Street\, Orangeville
END:VEVENT
BEGIN:VEVENT
DTSTART;TZID=America/Toronto:20230102T200000
DTEND;TZID=America/Toronto:20230102T210000
DTSTAMP:20260425T115011
CREATED:20221203T234936Z
LAST-MODIFIED:20230115T012011Z
UID:2615-1672689600-1672693200@danceorangeville.com
SUMMARY:Cha Cha & American Rumba
DESCRIPTION:
URL:https://danceorangeville.com/event/cha-cha-2/
LOCATION:Westminster United\, 247 Broadway\, Orangeville
ORGANIZER;CN="Jonathon Neville":MAILTO:danceorangeville@gmail.com
END:VEVENT
BEGIN:VEVENT
DTSTART;TZID=America/Toronto:20230106T203000
DTEND;TZID=America/Toronto:20230106T220000
DTSTAMP:20260425T115011
CREATED:20221203T234909Z
LAST-MODIFIED:20221204T000756Z
UID:2608-1673037000-1673042400@danceorangeville.com
SUMMARY:Ecstatic Dance
DESCRIPTION:Free-form dance. Let movements arise. Breathe\, shake\, feel what you feel\, express what bubbles up. A chance to explore yourself thru dance in a supportive community.We begin with a guided warmup growing connections within ourselves and between each other. Then surf a DJ’d wave\, slowly building to a peak or two before gradually coming to an elevated relaxation.\nSome nights may include layers of live music.
URL:https://danceorangeville.com/event/ecstatic-dance/
LOCATION:Private: Kala Yoga\, 229 Broadway\, Orangeville
ATTACH;FMTTYPE=image/jpeg:https://danceorangeville.com/wp-content/uploads/2022/11/ecstatic-dance-orangeville-92q.jpg
ORGANIZER;CN="Jonathon Neville":MAILTO:danceorangeville@gmail.com
END:VEVENT
BEGIN:VEVENT
DTSTART;TZID=America/Toronto:20230102T200000
DTEND;TZID=America/Toronto:20230102T210000
DTSTAMP:20260425T115011
CREATED:20221203T234936Z
LAST-MODIFIED:20230115T012011Z
UID:2615-1672689600-1672693200@danceorangeville.com
SUMMARY:Cha Cha & American Rumba
DESCRIPTION:
URL:https://danceorangeville.com/event/cha-cha-2/
LOCATION:Westminster United\, 247 Broadway\, Orangeville
ORGANIZER;CN="Jonathon Neville":MAILTO:danceorangeville@gmail.com
END:VEVENT
BEGIN:VEVENT
DTSTART;TZID=America/Toronto:20221212T200000
DTEND;TZID=America/Toronto:20221212T210000
DTSTAMP:20260425T115011
CREATED:20221203T163536Z
LAST-MODIFIED:20221203T163536Z
UID:2489-1670875200-1670878800@danceorangeville.com
SUMMARY:Waltz
DESCRIPTION:
URL:https://danceorangeville.com/event/waltz/
LOCATION:Westminster United\, 247 Broadway\, Orangeville
ORGANIZER;CN="Jonathon Neville":MAILTO:danceorangeville@gmail.com
END:VEVENT
BEGIN:VEVENT
DTSTART;TZID=America/Toronto:20221212T200000
DTEND;TZID=America/Toronto:20221212T210000
DTSTAMP:20260425T115011
CREATED:20221203T163536Z
LAST-MODIFIED:20221203T163536Z
UID:2489-1670875200-1670878800@danceorangeville.com
SUMMARY:Waltz
DESCRIPTION:
URL:https://danceorangeville.com/event/waltz/
LOCATION:Westminster United\, 247 Broadway\, Orangeville
ORGANIZER;CN="Jonathon Neville":MAILTO:danceorangeville@gmail.com
END:VEVENT
BEGIN:VEVENT
DTSTART;TZID=America/Toronto:20221205T200000
DTEND;TZID=America/Toronto:20221205T210000
DTSTAMP:20260425T115011
CREATED:20221203T163251Z
LAST-MODIFIED:20221203T163251Z
UID:2487-1670270400-1670274000@danceorangeville.com
SUMMARY:Tango
DESCRIPTION:
URL:https://danceorangeville.com/event/tango/
LOCATION:Westminster United\, 247 Broadway\, Orangeville
ORGANIZER;CN="Jonathon Neville":MAILTO:danceorangeville@gmail.com
END:VEVENT
END:VCALENDAR